BEGIN:VCALENDAR
VERSION:2.0
PRODID:-//Car-Dun-Al Dog Obedience Training Club - ECPv6.15.17.1//NONSGML v1.0//EN
CALSCALE:GREGORIAN
METHOD:PUBLISH
X-WR-CALNAME:Car-Dun-Al Dog Obedience Training Club
X-ORIGINAL-URL:https://www.cardunaldogtraining.com
X-WR-CALDESC:Events for Car-Dun-Al Dog Obedience Training Club
REFRESH-INTERVAL;VALUE=DURATION:PT1H
X-Robots-Tag:noindex
X-PUBLISHED-TTL:PT1H
BEGIN:VTIMEZONE
TZID:America/Chicago
BEGIN:DAYLIGHT
TZOFFSETFROM:-0600
TZOFFSETTO:-0500
TZNAME:CDT
DTSTART:20200308T080000
END:DAYLIGHT
BEGIN:STANDARD
TZOFFSETFROM:-0500
TZOFFSETTO:-0600
TZNAME:CST
DTSTART:20201101T070000
END:STANDARD
BEGIN:DAYLIGHT
TZOFFSETFROM:-0600
TZOFFSETTO:-0500
TZNAME:CDT
DTSTART:20210314T080000
END:DAYLIGHT
BEGIN:STANDARD
TZOFFSETFROM:-0500
TZOFFSETTO:-0600
TZNAME:CST
DTSTART:20211107T070000
END:STANDARD
BEGIN:DAYLIGHT
TZOFFSETFROM:-0600
TZOFFSETTO:-0500
TZNAME:CDT
DTSTART:20220313T080000
END:DAYLIGHT
BEGIN:STANDARD
TZOFFSETFROM:-0500
TZOFFSETTO:-0600
TZNAME:CST
DTSTART:20221106T070000
END:STANDARD
END:VTIMEZONE
BEGIN:VEVENT
DTSTART;TZID=America/Chicago:20210708T190000
DTEND;TZID=America/Chicago:20210708T200000
DTSTAMP:20260424T144257
CREATED:20210806T195537Z
LAST-MODIFIED:20210806T195537Z
UID:11213-1625770800-1625774400@www.cardunaldogtraining.com
SUMMARY:Beginner Novice
DESCRIPTION:
URL:https://www.cardunaldogtraining.com/event/beginner-novice-2/2021-07-08/
LOCATION:CarDunAl Dog Training Club\, 10783 Wolf Dr.\, Huntley\, IL\, 60142\, United States
CATEGORIES:Advanced
END:VEVENT
BEGIN:VEVENT
DTSTART;TZID=America/Chicago:20210708T190000
DTEND;TZID=America/Chicago:20210708T200000
DTSTAMP:20260424T144257
CREATED:20210806T194900Z
LAST-MODIFIED:20210806T194900Z
UID:11169-1625770800-1625774400@www.cardunaldogtraining.com
SUMMARY:Pre-Open
DESCRIPTION:
URL:https://www.cardunaldogtraining.com/event/pre-open/2021-07-08/
LOCATION:CarDunAl Dog Training Club\, 10783 Wolf Dr.\, Huntley\, IL\, 60142\, United States
CATEGORIES:Advanced
END:VEVENT
BEGIN:VEVENT
DTSTART;TZID=America/Chicago:20210708T183000
DTEND;TZID=America/Chicago:20210708T193000
DTSTAMP:20260424T144257
CREATED:20210715T202310Z
LAST-MODIFIED:20210715T204010Z
UID:10873-1625769000-1625772600@www.cardunaldogtraining.com
SUMMARY:Beginner Obedience
DESCRIPTION:
URL:https://www.cardunaldogtraining.com/event/beginner-obedience/2021-07-08/
LOCATION:CarDunAl Dog Training Club\, 10783 Wolf Dr.\, Huntley\, IL\, 60142\, United States
CATEGORIES:Beginners
END:VEVENT
BEGIN:VEVENT
DTSTART;TZID=America/Chicago:20210708T180000
DTEND;TZID=America/Chicago:20210708T193000
DTSTAMP:20260424T144257
CREATED:20210806T193000Z
LAST-MODIFIED:20210806T193000Z
UID:11147-1625767200-1625772600@www.cardunaldogtraining.com
SUMMARY:Pre-Utility
DESCRIPTION:
URL:https://www.cardunaldogtraining.com/event/pre-utility/2021-07-08/
LOCATION:CarDunAl Dog Training Club\, 10783 Wolf Dr.\, Huntley\, IL\, 60142\, United States
CATEGORIES:Advanced
END:VEVENT
BEGIN:VEVENT
DTSTART;TZID=America/Chicago:20210708T173000
DTEND;TZID=America/Chicago:20210708T190000
DTSTAMP:20260424T144257
CREATED:20210806T200147Z
LAST-MODIFIED:20210806T200147Z
UID:11258-1625765400-1625770800@www.cardunaldogtraining.com
SUMMARY:Thursday Rally Drop-In
DESCRIPTION:
URL:https://www.cardunaldogtraining.com/event/thursday-rally-drop-in/2021-07-08/
LOCATION:CarDunAl Dog Training Club\, 10783 Wolf Dr.\, Huntley\, IL\, 60142\, United States
CATEGORIES:Drop In Training
END:VEVENT
BEGIN:VEVENT
DTSTART;TZID=America/Chicago:20210708T173000
DTEND;TZID=America/Chicago:20210708T173000
DTSTAMP:20260424T144257
CREATED:20210806T190215Z
LAST-MODIFIED:20210806T190215Z
UID:11113-1625765400-1625765400@www.cardunaldogtraining.com
SUMMARY:Open/Utility
DESCRIPTION:
URL:https://www.cardunaldogtraining.com/event/open-utility/2021-07-08/
LOCATION:CarDunAl Dog Training Club\, 10783 Wolf Dr.\, Huntley\, IL\, 60142\, United States
CATEGORIES:Advanced
END:VEVENT
BEGIN:VEVENT
DTSTART;TZID=America/Chicago:20210708T130000
DTEND;TZID=America/Chicago:20210708T140000
DTSTAMP:20260424T144257
CREATED:20210806T195807Z
LAST-MODIFIED:20210806T195807Z
UID:11235-1625749200-1625752800@www.cardunaldogtraining.com
SUMMARY:Beginner
DESCRIPTION:
URL:https://www.cardunaldogtraining.com/event/beginner-2/2021-07-08/
LOCATION:CarDunAl Dog Training Club\, 10783 Wolf Dr.\, Huntley\, IL\, 60142\, United States
CATEGORIES:Beginners
END:VEVENT
BEGIN:VEVENT
DTSTART;TZID=America/Chicago:20210708T080000
DTEND;TZID=America/Chicago:20210708T210000
DTSTAMP:20260424T144257
CREATED:20210806T194742Z
LAST-MODIFIED:20210806T194742Z
UID:11158-1625731200-1625778000@www.cardunaldogtraining.com
SUMMARY:Mid-Utility
DESCRIPTION:
URL:https://www.cardunaldogtraining.com/event/mid-utility/2021-07-08/
LOCATION:CarDunAl Dog Training Club\, 10783 Wolf Dr.\, Huntley\, IL\, 60142\, United States
CATEGORIES:Advanced
END:VEVENT
BEGIN:VEVENT
DTSTART;TZID=America/Chicago:20210707T113000
DTEND;TZID=America/Chicago:20210707T123000
DTSTAMP:20260424T144257
CREATED:20210806T195712Z
LAST-MODIFIED:20210806T195712Z
UID:11224-1625657400-1625661000@www.cardunaldogtraining.com
SUMMARY:Beginner
DESCRIPTION:
URL:https://www.cardunaldogtraining.com/event/beginner/2021-07-07/
LOCATION:CarDunAl Dog Training Club\, 10783 Wolf Dr.\, Huntley\, IL\, 60142\, United States
CATEGORIES:Beginners
END:VEVENT
BEGIN:VEVENT
DTSTART;TZID=America/Chicago:20210707T101500
DTEND;TZID=America/Chicago:20210707T111500
DTSTAMP:20260424T144257
CREATED:20210806T195307Z
LAST-MODIFIED:20210806T195307Z
UID:11191-1625652900-1625656500@www.cardunaldogtraining.com
SUMMARY:Novice
DESCRIPTION:
URL:https://www.cardunaldogtraining.com/event/novice/2021-07-07/
LOCATION:CarDunAl Dog Training Club\, 10783 Wolf Dr.\, Huntley\, IL\, 60142\, United States
CATEGORIES:Advanced
END:VEVENT
BEGIN:VEVENT
DTSTART;TZID=America/Chicago:20210707T100000
DTEND;TZID=America/Chicago:20210707T120000
DTSTAMP:20260424T144257
CREATED:20210806T200016Z
LAST-MODIFIED:20210806T200016Z
UID:11246-1625652000-1625659200@www.cardunaldogtraining.com
SUMMARY:Wednesday Drop-In Training
DESCRIPTION:
URL:https://www.cardunaldogtraining.com/event/wednesday-drop-in-training/2021-07-07/
LOCATION:CarDunAl Dog Training Club\, 10783 Wolf Dr.\, Huntley\, IL\, 60142\, United States
CATEGORIES:Drop In Training
END:VEVENT
BEGIN:VEVENT
DTSTART;TZID=America/Chicago:20210707T090000
DTEND;TZID=America/Chicago:20210707T100000
DTSTAMP:20260424T144257
CREATED:20210806T192834Z
LAST-MODIFIED:20210806T192834Z
UID:11136-1625648400-1625652000@www.cardunaldogtraining.com
SUMMARY:Utility
DESCRIPTION:
URL:https://www.cardunaldogtraining.com/event/utility/2021-07-07/
LOCATION:CarDunAl Dog Training Club\, 10783 Wolf Dr.\, Huntley\, IL\, 60142\, United States
CATEGORIES:Advanced
END:VEVENT
BEGIN:VEVENT
DTSTART;TZID=America/Chicago:20210625T103000
DTEND;TZID=America/Chicago:20210625T113000
DTSTAMP:20260424T144257
CREATED:20210623T175749Z
LAST-MODIFIED:20210715T203719Z
UID:10777-1624617000-1624620600@www.cardunaldogtraining.com
SUMMARY:Scent Work - Level 2
DESCRIPTION:
URL:https://www.cardunaldogtraining.com/event/scent-work-3/2021-06-25/
LOCATION:CarDunAl Dog Training Club\, 10783 Wolf Dr.\, Huntley\, IL\, 60142\, United States
CATEGORIES:Scent Work
END:VEVENT
BEGIN:VEVENT
DTSTART;TZID=America/Chicago:20210625T090000
DTEND;TZID=America/Chicago:20210625T100000
DTSTAMP:20260424T144257
CREATED:20210623T175608Z
LAST-MODIFIED:20210715T204332Z
UID:10775-1624611600-1624615200@www.cardunaldogtraining.com
SUMMARY:Scent Work - Level 1
DESCRIPTION:
URL:https://www.cardunaldogtraining.com/event/scent-work-2/2021-06-25/
LOCATION:CarDunAl Dog Training Club\, 10783 Wolf Dr.\, Huntley\, IL\, 60142\, United States
CATEGORIES:Scent Work
END:VEVENT
BEGIN:VEVENT
DTSTART;TZID=America/Chicago:20210619T100000
DTEND;TZID=America/Chicago:20210619T150000
DTSTAMP:20260424T144257
CREATED:20210309T000304Z
LAST-MODIFIED:20210309T000304Z
UID:9404-1624096800-1624114800@www.cardunaldogtraining.com
SUMMARY:Sniff and Go
DESCRIPTION:
URL:https://www.cardunaldogtraining.com/event/sniff-and-go-2/
LOCATION:CarDunAl Dog Training Club\, 10783 Wolf Dr.\, Huntley\, IL\, 60142\, United States
CATEGORIES:Events
END:VEVENT
BEGIN:VEVENT
DTSTART;TZID=America/Chicago:20210619T080000
DTEND;TZID=America/Chicago:20210620T170000
DTSTAMP:20260424T144257
CREATED:20210314T183510Z
LAST-MODIFIED:20210314T183510Z
UID:9669-1624089600-1624208400@www.cardunaldogtraining.com
SUMMARY:Car-Dun-Al Barn Hunt Trial - Antioch
DESCRIPTION:
URL:https://www.cardunaldogtraining.com/event/car-dun-al-barn-hunt-trial-antioch/
LOCATION:CarDunAl Dog Training Club\, 10783 Wolf Dr.\, Huntley\, IL\, 60142\, United States
CATEGORIES:Trials
END:VEVENT
BEGIN:VEVENT
DTSTART;TZID=America/Chicago:20210610T193000
DTEND;TZID=America/Chicago:20210610T210000
DTSTAMP:20260424T144257
CREATED:20210314T214400Z
LAST-MODIFIED:20210314T214400Z
UID:9983-1623353400-1623358800@www.cardunaldogtraining.com
SUMMARY:General Membership Meeting
DESCRIPTION:ne
URL:https://www.cardunaldogtraining.com/event/general-membership-meeting/
LOCATION:CarDunAl Dog Training Club\, 10783 Wolf Dr.\, Huntley\, IL\, 60142\, United States
END:VEVENT
BEGIN:VEVENT
DTSTART;TZID=America/Chicago:20210609T181500
DTEND;TZID=America/Chicago:20210609T191500
DTSTAMP:20260424T144257
CREATED:20210623T173945Z
LAST-MODIFIED:20210715T203905Z
UID:10758-1623262500-1623266100@www.cardunaldogtraining.com
SUMMARY:Scent Work - Continuing 6:15pm
DESCRIPTION:
URL:https://www.cardunaldogtraining.com/event/scent-work/2021-06-09/
LOCATION:CarDunAl Dog Training Club\, 10783 Wolf Dr.\, Huntley\, IL\, 60142\, United States
CATEGORIES:Scent Work
END:VEVENT
BEGIN:VEVENT
DTSTART;TZID=America/Chicago:20210609T170000
DTEND;TZID=America/Chicago:20210609T180000
DTSTAMP:20260424T144257
CREATED:20210623T171007Z
LAST-MODIFIED:20210715T204125Z
UID:10731-1623258000-1623261600@www.cardunaldogtraining.com
SUMMARY:Scent Work - Continuing 5:00pm
DESCRIPTION:
URL:https://www.cardunaldogtraining.com/event/continuing-scent-work-3/2021-06-09/
LOCATION:CarDunAl Dog Training Club\, 10783 Wolf Dr.\, Huntley\, IL\, 60142\, United States
CATEGORIES:Scent Work
END:VEVENT
BEGIN:VEVENT
DTSTART;TZID=America/Chicago:20210604T080000
DTEND;TZID=America/Chicago:20210604T170000
DTSTAMP:20260424T144257
CREATED:20210309T000216Z
LAST-MODIFIED:20210309T000216Z
UID:9402-1622793600-1622826000@www.cardunaldogtraining.com
SUMMARY:Mat Cleaning
DESCRIPTION:
URL:https://www.cardunaldogtraining.com/event/mat-cleaning/
LOCATION:CarDunAl Dog Training Club\, 10783 Wolf Dr.\, Huntley\, IL\, 60142\, United States
END:VEVENT
BEGIN:VEVENT
DTSTART;TZID=America/Chicago:20210529T100000
DTEND;TZID=America/Chicago:20210529T150000
DTSTAMP:20260424T144257
CREATED:20210309T000135Z
LAST-MODIFIED:20210309T000135Z
UID:9400-1622282400-1622300400@www.cardunaldogtraining.com
SUMMARY:Sniff and Go
DESCRIPTION:
URL:https://www.cardunaldogtraining.com/event/sniff-and-go/
LOCATION:CarDunAl Dog Training Club\, 10783 Wolf Dr.\, Huntley\, IL\, 60142\, United States
CATEGORIES:Events
END:VEVENT
BEGIN:VEVENT
DTSTART;TZID=America/Chicago:20210522T080000
DTEND;TZID=America/Chicago:20210523T170000
DTSTAMP:20260424T144257
CREATED:20210308T235803Z
LAST-MODIFIED:20210309T000045Z
UID:9398-1621670400-1621789200@www.cardunaldogtraining.com
SUMMARY:Agility Ability
DESCRIPTION:
URL:https://www.cardunaldogtraining.com/event/agility-ability/
LOCATION:CarDunAl Dog Training Club\, 10783 Wolf Dr.\, Huntley\, IL\, 60142\, United States
CATEGORIES:Agility
END:VEVENT
BEGIN:VEVENT
DTSTART;TZID=America/Chicago:20210515T080000
DTEND;TZID=America/Chicago:20210515T180000
DTSTAMP:20260424T144257
CREATED:20210226T193024Z
LAST-MODIFIED:20210226T194529Z
UID:9339-1621065600-1621101600@www.cardunaldogtraining.com
SUMMARY:Car-Dun-Al FCAT
DESCRIPTION:Location:  Flint Creek Farm\n27011 W. Wilmot Rd.\nAntioch\, IL. 60002 \nPlease go to the Trials to download a copy of the premium (when it becomes available).
URL:https://www.cardunaldogtraining.com/event/car-dun-al-fcat/2021-05-15/
LOCATION:CarDunAl Dog Training Club\, 10783 Wolf Dr.\, Huntley\, IL\, 60142\, United States
END:VEVENT
BEGIN:VEVENT
DTSTART;TZID=America/Chicago:20210507T063000
DTEND;TZID=America/Chicago:20210507T180000
DTSTAMP:20260424T144257
CREATED:20210210T173049Z
LAST-MODIFIED:20210226T191312Z
UID:9085-1620369000-1620410400@www.cardunaldogtraining.com
SUMMARY:Northwest - Agility Trial
DESCRIPTION:Dates:  5/7/21 – 5/9/21  (Northwest Obedience Club Inc.) \nLocation: Trial to be held at Car-Dun-Al ODTC\,  Huntley\, IL \nPlease go to the Trials to download a copy of the premium (when it becomes available).
URL:https://www.cardunaldogtraining.com/event/northwest-agility-trial/2021-05-07/
LOCATION:CarDunAl Dog Training Club\, 10783 Wolf Dr.\, Huntley\, IL\, 60142\, United States
CATEGORIES:Agility
END:VEVENT
BEGIN:VEVENT
DTSTART;TZID=America/Chicago:20210501T063000
DTEND;TZID=America/Chicago:20210501T180000
DTSTAMP:20260424T144257
CREATED:20210210T181650Z
LAST-MODIFIED:20210226T191034Z
UID:9097-1619850600-1619892000@www.cardunaldogtraining.com
SUMMARY:Cardunal -  Agility Trial
DESCRIPTION:Dates:  5/1/21 – 5/2/21 (Car-Dun-Al Obedience Dog Training Club) \nPlease go to the “Clinics-Trials-Events” tab to download a copy of the premium (when it becomes available). \nLocation: Trial to be held at Car-Dun-Al ODTC\,  Huntley\, IL
URL:https://www.cardunaldogtraining.com/event/cardinal-agility-trial/2021-05-01/
LOCATION:CarDunAl Dog Training Club\, 10783 Wolf Dr.\, Huntley\, IL\, 60142\, United States
CATEGORIES:Clinics,Events,Trials
END:VEVENT
BEGIN:VEVENT
DTSTART;TZID=America/Chicago:20210430T063000
DTEND;TZID=America/Chicago:20210430T180000
DTSTAMP:20260424T144258
CREATED:20210210T181022Z
LAST-MODIFIED:20210210T181806Z
UID:9090-1619764200-1619805600@www.cardunaldogtraining.com
SUMMARY:Greater DeKalb - Agility Trial
DESCRIPTION:Dates:  4/30/21  (Greater Dekalb Kennel Club) \nPlease go to the “Clinics-Trials-Events” tab to download a copy of the premium (when it becomes available). \nLocation: Trial to be held at Car-Dun-Al ODTC\,  Huntley\, IL.
URL:https://www.cardunaldogtraining.com/event/greater-dekalb-agility-trial/
LOCATION:CarDunAl Dog Training Club\, 10783 Wolf Dr.\, Huntley\, IL\, 60142\, United States
CATEGORIES:Clinics,Events,Trials
END:VEVENT
BEGIN:VEVENT
DTSTART;TZID=America/Chicago:20210424T070000
DTEND;TZID=America/Chicago:20210424T170000
DTSTAMP:20260424T144258
CREATED:20210226T192349Z
LAST-MODIFIED:20210226T192527Z
UID:9335-1619247600-1619283600@www.cardunaldogtraining.com
SUMMARY:Car-Dun-Al Obedience & Rally Trial
DESCRIPTION:Location: Trial to be held at Car-Dun-Al ODTC\,  Huntley\, IL \nPlease go to the Trials to download a copy of the premium (when it becomes available).
URL:https://www.cardunaldogtraining.com/event/car-dun-al-obedience-rally-trial/2021-04-24/
LOCATION:CarDunAl Dog Training Club\, 10783 Wolf Dr.\, Huntley\, IL\, 60142\, United States
CATEGORIES:Trials
END:VEVENT
BEGIN:VEVENT
DTSTART;TZID=America/Chicago:20210423T120000
DTEND;TZID=America/Chicago:20210423T130000
DTSTAMP:20260424T144258
CREATED:20210330T200859Z
LAST-MODIFIED:20210330T201215Z
UID:10270-1619179200-1619182800@www.cardunaldogtraining.com
SUMMARY:Scent Work Level 2
DESCRIPTION:
URL:https://www.cardunaldogtraining.com/event/scent-work-level-2/2021-04-23/
LOCATION:CarDunAl Dog Training Club\, 10783 Wolf Dr.\, Huntley\, IL\, 60142\, United States
END:VEVENT
BEGIN:VEVENT
DTSTART;TZID=America/Chicago:20210423T101500
DTEND;TZID=America/Chicago:20210423T111500
DTSTAMP:20260424T144258
CREATED:20210330T201117Z
LAST-MODIFIED:20210330T201117Z
UID:10277-1619172900-1619176500@www.cardunaldogtraining.com
SUMMARY:Scent Work Level 3
DESCRIPTION:
URL:https://www.cardunaldogtraining.com/event/scent-work-level-3/2021-04-23/
LOCATION:CarDunAl Dog Training Club\, 10783 Wolf Dr.\, Huntley\, IL\, 60142\, United States
END:VEVENT
BEGIN:VEVENT
DTSTART;TZID=America/Chicago:20210422T210000
DTEND;TZID=America/Chicago:20210422T220000
DTSTAMP:20260424T144258
CREATED:20210314T214232Z
LAST-MODIFIED:20210314T214232Z
UID:9972-1619125200-1619128800@www.cardunaldogtraining.com
SUMMARY:Open - Utility No Instruction
DESCRIPTION:
URL:https://www.cardunaldogtraining.com/event/open-utility-no-instruction-2/2021-04-22/
LOCATION:CarDunAl Dog Training Club\, 10783 Wolf Dr.\, Huntley\, IL\, 60142\, United States
END:VEVENT
END:VCALENDAR