BEGIN:VCALENDAR
VERSION:2.0
PRODID:-//Car-Dun-Al Dog Obedience Training Club - ECPv6.15.17.1//NONSGML v1.0//EN
CALSCALE:GREGORIAN
METHOD:PUBLISH
X-ORIGINAL-URL:https://www.cardunaldogtraining.com
X-WR-CALDESC:Events for Car-Dun-Al Dog Obedience Training Club
REFRESH-INTERVAL;VALUE=DURATION:PT1H
X-Robots-Tag:noindex
X-PUBLISHED-TTL:PT1H
BEGIN:VTIMEZONE
TZID:America/Chicago
BEGIN:DAYLIGHT
TZOFFSETFROM:-0600
TZOFFSETTO:-0500
TZNAME:CDT
DTSTART:20240310T080000
END:DAYLIGHT
BEGIN:STANDARD
TZOFFSETFROM:-0500
TZOFFSETTO:-0600
TZNAME:CST
DTSTART:20241103T070000
END:STANDARD
BEGIN:DAYLIGHT
TZOFFSETFROM:-0600
TZOFFSETTO:-0500
TZNAME:CDT
DTSTART:20250309T080000
END:DAYLIGHT
BEGIN:STANDARD
TZOFFSETFROM:-0500
TZOFFSETTO:-0600
TZNAME:CST
DTSTART:20251102T070000
END:STANDARD
BEGIN:DAYLIGHT
TZOFFSETFROM:-0600
TZOFFSETTO:-0500
TZNAME:CDT
DTSTART:20260308T080000
END:DAYLIGHT
BEGIN:STANDARD
TZOFFSETFROM:-0500
TZOFFSETTO:-0600
TZNAME:CST
DTSTART:20261101T070000
END:STANDARD
END:VTIMEZONE
BEGIN:VEVENT
DTSTART;TZID=America/Chicago:20250109T190000
DTEND;TZID=America/Chicago:20250109T200000
DTSTAMP:20260424T231937
CREATED:20241221T024123Z
LAST-MODIFIED:20241221T024123Z
UID:25475-1736449200-1736452800@www.cardunaldogtraining.com
SUMMARY:Utility Obedience
DESCRIPTION:
URL:https://www.cardunaldogtraining.com/event/utility-obedience-9/2025-01-09/
LOCATION:CarDunAl Dog Training Club\, 10783 Wolf Dr.\, Huntley\, IL\, 60142\, United States
CATEGORIES:Advanced
END:VEVENT
BEGIN:VEVENT
DTSTART;TZID=America/Chicago:20250109T200000
DTEND;TZID=America/Chicago:20250109T210000
DTSTAMP:20260424T231937
CREATED:20241221T022514Z
LAST-MODIFIED:20241221T022514Z
UID:25384-1736452800-1736456400@www.cardunaldogtraining.com
SUMMARY:Pre-Open Obedience
DESCRIPTION:
URL:https://www.cardunaldogtraining.com/event/pre-open-obedience-15/2025-01-09/
LOCATION:CarDunAl Dog Training Club\, 10783 Wolf Dr.\, Huntley\, IL\, 60142\, United States
CATEGORIES:Advanced
END:VEVENT
BEGIN:VEVENT
DTSTART;TZID=America/Chicago:20250109T200000
DTEND;TZID=America/Chicago:20250109T210000
DTSTAMP:20260424T231937
CREATED:20241221T022631Z
LAST-MODIFIED:20241221T022631Z
UID:25395-1736452800-1736456400@www.cardunaldogtraining.com
SUMMARY:Open Obedience
DESCRIPTION:
URL:https://www.cardunaldogtraining.com/event/open-obedience-20/2025-01-09/
LOCATION:CarDunAl Dog Training Club\, 10783 Wolf Dr.\, Huntley\, IL\, 60142\, United States
CATEGORIES:Advanced
END:VEVENT
BEGIN:VEVENT
DTSTART;TZID=America/Chicago:20250109T200000
DTEND;TZID=America/Chicago:20250109T210000
DTSTAMP:20260424T231937
CREATED:20241221T023707Z
LAST-MODIFIED:20241221T023707Z
UID:25453-1736452800-1736456400@www.cardunaldogtraining.com
SUMMARY:Beginner Obedience
DESCRIPTION:
URL:https://www.cardunaldogtraining.com/event/beginner-obedience-35/2025-01-09/
LOCATION:CarDunAl Dog Training Club\, 10783 Wolf Dr.\, Huntley\, IL\, 60142\, United States
CATEGORIES:Advanced
END:VEVENT
BEGIN:VEVENT
DTSTART;TZID=America/Chicago:20250113T090000
DTEND;TZID=America/Chicago:20250113T103000
DTSTAMP:20260424T231937
CREATED:20241221T030701Z
LAST-MODIFIED:20241221T030701Z
UID:25563-1736758800-1736764200@www.cardunaldogtraining.com
SUMMARY:Master Level 6 Agility
DESCRIPTION:
URL:https://www.cardunaldogtraining.com/event/master-level-6-agility/2025-01-13/
LOCATION:CarDunAl Dog Training Club\, 10783 Wolf Dr.\, Huntley\, IL\, 60142\, United States
CATEGORIES:Agility
END:VEVENT
BEGIN:VEVENT
DTSTART;TZID=America/Chicago:20250113T170000
DTEND;TZID=America/Chicago:20250113T180000
DTSTAMP:20260424T231937
CREATED:20241221T030818Z
LAST-MODIFIED:20241221T030818Z
UID:25574-1736787600-1736791200@www.cardunaldogtraining.com
SUMMARY:Advanced Agility Level 4
DESCRIPTION:
URL:https://www.cardunaldogtraining.com/event/advanced-agility-level-4-11/2025-01-13/
LOCATION:CarDunAl Dog Training Club\, 10783 Wolf Dr.\, Huntley\, IL\, 60142\, United States
CATEGORIES:Agility
END:VEVENT
BEGIN:VEVENT
DTSTART;TZID=America/Chicago:20250113T180000
DTEND;TZID=America/Chicago:20250113T190000
DTSTAMP:20260424T231937
CREATED:20241221T030915Z
LAST-MODIFIED:20241221T030915Z
UID:25585-1736791200-1736794800@www.cardunaldogtraining.com
SUMMARY:Advanced Agility Level 4
DESCRIPTION:
URL:https://www.cardunaldogtraining.com/event/advanced-agility-level-4-12/2025-01-13/
LOCATION:CarDunAl Dog Training Club\, 10783 Wolf Dr.\, Huntley\, IL\, 60142\, United States
CATEGORIES:Agility
END:VEVENT
BEGIN:VEVENT
DTSTART;TZID=America/Chicago:20250113T180000
DTEND;TZID=America/Chicago:20250113T190000
DTSTAMP:20260424T231937
CREATED:20241221T031045Z
LAST-MODIFIED:20241221T031045Z
UID:25596-1736791200-1736794800@www.cardunaldogtraining.com
SUMMARY:Foundation Class Agility
DESCRIPTION:
URL:https://www.cardunaldogtraining.com/event/foundation-class-agility/2025-01-13/
LOCATION:CarDunAl Dog Training Club\, 10783 Wolf Dr.\, Huntley\, IL\, 60142\, United States
CATEGORIES:Agility
END:VEVENT
BEGIN:VEVENT
DTSTART;TZID=America/Chicago:20250113T180000
DTEND;TZID=America/Chicago:20250113T190000
DTSTAMP:20260424T231937
CREATED:20241221T031231Z
LAST-MODIFIED:20241221T031231Z
UID:25607-1736791200-1736794800@www.cardunaldogtraining.com
SUMMARY:Intermediate Agility Level 2
DESCRIPTION:
URL:https://www.cardunaldogtraining.com/event/intermediate-agility-level-2-6/2025-01-13/
LOCATION:CarDunAl Dog Training Club\, 10783 Wolf Dr.\, Huntley\, IL\, 60142\, United States
CATEGORIES:Agility
END:VEVENT
BEGIN:VEVENT
DTSTART;TZID=America/Chicago:20250113T190000
DTEND;TZID=America/Chicago:20250113T200000
DTSTAMP:20260424T231937
CREATED:20241221T031355Z
LAST-MODIFIED:20241221T031355Z
UID:25618-1736794800-1736798400@www.cardunaldogtraining.com
SUMMARY:Advanced Agility Level 5
DESCRIPTION:
URL:https://www.cardunaldogtraining.com/event/advanced-agility-level-5-3/2025-01-13/
LOCATION:CarDunAl Dog Training Club\, 10783 Wolf Dr.\, Huntley\, IL\, 60142\, United States
CATEGORIES:Agility
END:VEVENT
BEGIN:VEVENT
DTSTART;TZID=America/Chicago:20250113T200000
DTEND;TZID=America/Chicago:20250113T210000
DTSTAMP:20260424T231937
CREATED:20241221T031526Z
LAST-MODIFIED:20241221T031526Z
UID:25629-1736798400-1736802000@www.cardunaldogtraining.com
SUMMARY:Beginner Agility Level 1
DESCRIPTION:
URL:https://www.cardunaldogtraining.com/event/beginner-agility-level-1-6/2025-01-13/
LOCATION:CarDunAl Dog Training Club\, 10783 Wolf Dr.\, Huntley\, IL\, 60142\, United States
CATEGORIES:Agility
END:VEVENT
BEGIN:VEVENT
DTSTART;TZID=America/Chicago:20250113T200000
DTEND;TZID=America/Chicago:20250113T210000
DTSTAMP:20260424T231937
CREATED:20241221T031627Z
LAST-MODIFIED:20241221T031627Z
UID:25640-1736798400-1736802000@www.cardunaldogtraining.com
SUMMARY:Advanced Agility Level 5
DESCRIPTION:
URL:https://www.cardunaldogtraining.com/event/advanced-agility-level-5-4/2025-01-13/
LOCATION:CarDunAl Dog Training Club\, 10783 Wolf Dr.\, Huntley\, IL\, 60142\, United States
CATEGORIES:Agility
END:VEVENT
BEGIN:VEVENT
DTSTART;TZID=America/Chicago:20250114T090000
DTEND;TZID=America/Chicago:20250114T100000
DTSTAMP:20260424T231937
CREATED:20241221T025558Z
LAST-MODIFIED:20241221T025558Z
UID:25497-1736845200-1736848800@www.cardunaldogtraining.com
SUMMARY:Scent Work Level 3
DESCRIPTION:
URL:https://www.cardunaldogtraining.com/event/scent-work-level-3-8/2025-01-14/
LOCATION:CarDunAl Dog Training Club\, 10783 Wolf Dr.\, Huntley\, IL\, 60142\, United States
CATEGORIES:Scent Work
END:VEVENT
BEGIN:VEVENT
DTSTART;TZID=America/Chicago:20250114T100000
DTEND;TZID=America/Chicago:20250114T110000
DTSTAMP:20260424T231937
CREATED:20241221T025703Z
LAST-MODIFIED:20241221T025703Z
UID:25508-1736848800-1736852400@www.cardunaldogtraining.com
SUMMARY:Scent Work Level 3
DESCRIPTION:
URL:https://www.cardunaldogtraining.com/event/scent-work-level-3-9/2025-01-14/
LOCATION:CarDunAl Dog Training Club\, 10783 Wolf Dr.\, Huntley\, IL\, 60142\, United States
CATEGORIES:Scent Work
END:VEVENT
BEGIN:VEVENT
DTSTART;TZID=America/Chicago:20250114T110000
DTEND;TZID=America/Chicago:20250114T120000
DTSTAMP:20260424T231937
CREATED:20241221T025800Z
LAST-MODIFIED:20241221T025800Z
UID:25519-1736852400-1736856000@www.cardunaldogtraining.com
SUMMARY:Scent Work Level 3
DESCRIPTION:
URL:https://www.cardunaldogtraining.com/event/scent-work-level-3-10/2025-01-14/
LOCATION:CarDunAl Dog Training Club\, 10783 Wolf Dr.\, Huntley\, IL\, 60142\, United States
CATEGORIES:Scent Work
END:VEVENT
BEGIN:VEVENT
DTSTART;TZID=America/Chicago:20250114T123000
DTEND;TZID=America/Chicago:20250114T133000
DTSTAMP:20260424T231937
CREATED:20241221T025903Z
LAST-MODIFIED:20241221T025903Z
UID:25530-1736857800-1736861400@www.cardunaldogtraining.com
SUMMARY:Scent Work Level 2
DESCRIPTION:
URL:https://www.cardunaldogtraining.com/event/scent-work-level-2-6/2025-01-14/
LOCATION:CarDunAl Dog Training Club\, 10783 Wolf Dr.\, Huntley\, IL\, 60142\, United States
CATEGORIES:Scent Work
END:VEVENT
BEGIN:VEVENT
DTSTART;TZID=America/Chicago:20250114T140000
DTEND;TZID=America/Chicago:20250114T150000
DTSTAMP:20260424T231937
CREATED:20241221T030016Z
LAST-MODIFIED:20241221T030016Z
UID:25541-1736863200-1736866800@www.cardunaldogtraining.com
SUMMARY:Scent Work Level 1
DESCRIPTION:
URL:https://www.cardunaldogtraining.com/event/scent-work-level-1-6/2025-01-14/
LOCATION:CarDunAl Dog Training Club\, 10783 Wolf Dr.\, Huntley\, IL\, 60142\, United States
CATEGORIES:Scent Work
END:VEVENT
BEGIN:VEVENT
DTSTART;TZID=America/Chicago:20250114T150000
DTEND;TZID=America/Chicago:20250114T160000
DTSTAMP:20260424T231937
CREATED:20241221T030103Z
LAST-MODIFIED:20241221T030103Z
UID:25552-1736866800-1736870400@www.cardunaldogtraining.com
SUMMARY:Scent Work Level 1
DESCRIPTION:
URL:https://www.cardunaldogtraining.com/event/scent-work-level-1-7/2025-01-14/
LOCATION:CarDunAl Dog Training Club\, 10783 Wolf Dr.\, Huntley\, IL\, 60142\, United States
CATEGORIES:Scent Work
END:VEVENT
BEGIN:VEVENT
DTSTART;TZID=America/Chicago:20250114T180000
DTEND;TZID=America/Chicago:20250114T190000
DTSTAMP:20260424T231937
CREATED:20241215T020010Z
LAST-MODIFIED:20241215T020010Z
UID:24996-1736877600-1736881200@www.cardunaldogtraining.com
SUMMARY:Puppy Class Obedience
DESCRIPTION:
URL:https://www.cardunaldogtraining.com/event/puppy-class-obedience-10/2025-01-14/
LOCATION:CarDunAl Dog Training Club\, 10783 Wolf Dr.\, Huntley\, IL\, 60142\, United States
CATEGORIES:AKC Star Puppy / Pre-Beginners Class
END:VEVENT
BEGIN:VEVENT
DTSTART;TZID=America/Chicago:20250114T193000
DTEND;TZID=America/Chicago:20250114T203000
DTSTAMP:20260424T231937
CREATED:20241221T031757Z
LAST-MODIFIED:20241221T031757Z
UID:25651-1736883000-1736886600@www.cardunaldogtraining.com
SUMMARY:Advanced Agility Level 3
DESCRIPTION:
URL:https://www.cardunaldogtraining.com/event/advanced-agility-level-3/2025-01-14/
LOCATION:CarDunAl Dog Training Club\, 10783 Wolf Dr.\, Huntley\, IL\, 60142\, United States
CATEGORIES:Agility
END:VEVENT
BEGIN:VEVENT
DTSTART;TZID=America/Chicago:20250115T093000
DTEND;TZID=America/Chicago:20250115T100000
DTSTAMP:20260424T231937
CREATED:20241221T022836Z
LAST-MODIFIED:20241221T022836Z
UID:25406-1736933400-1736935200@www.cardunaldogtraining.com
SUMMARY:Open/Utility Obedience – No Instructor
DESCRIPTION:
URL:https://www.cardunaldogtraining.com/event/open-utility-obedience-no-instructor-16/2025-01-15/
LOCATION:CarDunAl Dog Training Club\, 10783 Wolf Dr.\, Huntley\, IL\, 60142\, United States
CATEGORIES:Advanced
END:VEVENT
BEGIN:VEVENT
DTSTART;TZID=America/Chicago:20250115T100000
DTEND;TZID=America/Chicago:20250115T110000
DTSTAMP:20260424T231937
CREATED:20241221T021126Z
LAST-MODIFIED:20241221T021126Z
UID:25340-1736935200-1736938800@www.cardunaldogtraining.com
SUMMARY:Novice Obedience
DESCRIPTION:
URL:https://www.cardunaldogtraining.com/event/novice-obedience-22/2025-01-15/
LOCATION:CarDunAl Dog Training Club\, 10783 Wolf Dr.\, Huntley\, IL\, 60142\, United States
CATEGORIES:Advanced
END:VEVENT
BEGIN:VEVENT
DTSTART;TZID=America/Chicago:20250115T100000
DTEND;TZID=America/Chicago:20250115T110000
DTSTAMP:20260424T231937
CREATED:20241221T022227Z
LAST-MODIFIED:20241221T022227Z
UID:25373-1736935200-1736938800@www.cardunaldogtraining.com
SUMMARY:Open Obedience
DESCRIPTION:
URL:https://www.cardunaldogtraining.com/event/open-obedience-19/2025-01-15/
LOCATION:CarDunAl Dog Training Club\, 10783 Wolf Dr.\, Huntley\, IL\, 60142\, United States
CATEGORIES:Advanced
END:VEVENT
BEGIN:VEVENT
DTSTART;TZID=America/Chicago:20250115T100000
DTEND;TZID=America/Chicago:20250115T120000
DTSTAMP:20260424T231937
CREATED:20250106T192713Z
LAST-MODIFIED:20250106T192713Z
UID:25834-1736935200-1736942400@www.cardunaldogtraining.com
SUMMARY:Drop In Obedience Training
DESCRIPTION:
URL:https://www.cardunaldogtraining.com/event/drop-in-obedience-training-4/2025-01-15/
LOCATION:CarDunAl Dog Training Club\, 10783 Wolf Dr.\, Huntley\, IL\, 60142\, United States
CATEGORIES:Drop In Training
END:VEVENT
BEGIN:VEVENT
DTSTART;TZID=America/Chicago:20250115T113000
DTEND;TZID=America/Chicago:20250115T123000
DTSTAMP:20260424T231937
CREATED:20241221T023333Z
LAST-MODIFIED:20241221T023333Z
UID:25428-1736940600-1736944200@www.cardunaldogtraining.com
SUMMARY:Beginner Obedience
DESCRIPTION:
URL:https://www.cardunaldogtraining.com/event/beginner-obedience-32/2025-01-15/
LOCATION:CarDunAl Dog Training Club\, 10783 Wolf Dr.\, Huntley\, IL\, 60142\, United States
CATEGORIES:Beginners
END:VEVENT
BEGIN:VEVENT
DTSTART;TZID=America/Chicago:20250115T120000
DTEND;TZID=America/Chicago:20250115T133000
DTSTAMP:20260424T231937
CREATED:20241222T021525Z
LAST-MODIFIED:20241222T021525Z
UID:25666-1736942400-1736947800@www.cardunaldogtraining.com
SUMMARY:Drop In Rally
DESCRIPTION:
URL:https://www.cardunaldogtraining.com/event/drop-in-rally-2/2025-01-15/
LOCATION:CarDunAl Dog Training Club\, 10783 Wolf Dr.\, Huntley\, IL\, 60142\, United States
CATEGORIES:Drop In Training
END:VEVENT
BEGIN:VEVENT
DTSTART;TZID=America/Chicago:20250115T190000
DTEND;TZID=America/Chicago:20250115T200000
DTSTAMP:20260424T231937
CREATED:20250106T192935Z
LAST-MODIFIED:20251120T012556Z
UID:25885-1736967600-1736971200@www.cardunaldogtraining.com
SUMMARY:Drop In Conformation
DESCRIPTION:
URL:https://www.cardunaldogtraining.com/event/drop-in-conformation-2/2025-01-15/
LOCATION:CarDunAl Dog Training Club\, 10783 Wolf Dr.\, Huntley\, IL\, 60142\, United States
CATEGORIES:Conformation
END:VEVENT
BEGIN:VEVENT
DTSTART;TZID=America/Chicago:20250116T120000
DTEND;TZID=America/Chicago:20250116T130000
DTSTAMP:20260424T231937
CREATED:20241215T020208Z
LAST-MODIFIED:20241215T020641Z
UID:25009-1737028800-1737032400@www.cardunaldogtraining.com
SUMMARY:Puppy Class Obedience
DESCRIPTION:
URL:https://www.cardunaldogtraining.com/event/puppy-class-obedience-11/2025-01-16/
LOCATION:CarDunAl Dog Training Club\, 10783 Wolf Dr.\, Huntley\, IL\, 60142\, United States
CATEGORIES:AKC Star Puppy / Pre-Beginners Class
END:VEVENT
BEGIN:VEVENT
DTSTART;TZID=America/Chicago:20250116T133000
DTEND;TZID=America/Chicago:20250116T143000
DTSTAMP:20260424T231937
CREATED:20241221T023500Z
LAST-MODIFIED:20241221T023500Z
UID:25440-1737034200-1737037800@www.cardunaldogtraining.com
SUMMARY:Beginner Obedience
DESCRIPTION:
URL:https://www.cardunaldogtraining.com/event/beginner-obedience-33/2025-01-16/
LOCATION:CarDunAl Dog Training Club\, 10783 Wolf Dr.\, Huntley\, IL\, 60142\, United States
CATEGORIES:Beginners
END:VEVENT
BEGIN:VEVENT
DTSTART;TZID=America/Chicago:20250116T170000
DTEND;TZID=America/Chicago:20250116T180000
DTSTAMP:20260424T231937
CREATED:20241221T024235Z
LAST-MODIFIED:20241221T024235Z
UID:25487-1737046800-1737050400@www.cardunaldogtraining.com
SUMMARY:Utility Obedience
DESCRIPTION:
URL:https://www.cardunaldogtraining.com/event/utility-obedience-10/2025-01-16/
LOCATION:CarDunAl Dog Training Club\, 10783 Wolf Dr.\, Huntley\, IL\, 60142\, United States
CATEGORIES:Advanced
END:VEVENT
END:VCALENDAR