BEGIN:VCALENDAR
VERSION:2.0
PRODID:-//Car-Dun-Al Dog Obedience Training Club - ECPv6.15.17.1//NONSGML v1.0//EN
CALSCALE:GREGORIAN
METHOD:PUBLISH
X-WR-CALNAME:Car-Dun-Al Dog Obedience Training Club
X-ORIGINAL-URL:https://www.cardunaldogtraining.com
X-WR-CALDESC:Events for Car-Dun-Al Dog Obedience Training Club
REFRESH-INTERVAL;VALUE=DURATION:PT1H
X-Robots-Tag:noindex
X-PUBLISHED-TTL:PT1H
BEGIN:VTIMEZONE
TZID:America/Chicago
BEGIN:DAYLIGHT
TZOFFSETFROM:-0600
TZOFFSETTO:-0500
TZNAME:CDT
DTSTART:20200308T080000
END:DAYLIGHT
BEGIN:STANDARD
TZOFFSETFROM:-0500
TZOFFSETTO:-0600
TZNAME:CST
DTSTART:20201101T070000
END:STANDARD
BEGIN:DAYLIGHT
TZOFFSETFROM:-0600
TZOFFSETTO:-0500
TZNAME:CDT
DTSTART:20210314T080000
END:DAYLIGHT
BEGIN:STANDARD
TZOFFSETFROM:-0500
TZOFFSETTO:-0600
TZNAME:CST
DTSTART:20211107T070000
END:STANDARD
BEGIN:DAYLIGHT
TZOFFSETFROM:-0600
TZOFFSETTO:-0500
TZNAME:CDT
DTSTART:20220313T080000
END:DAYLIGHT
BEGIN:STANDARD
TZOFFSETFROM:-0500
TZOFFSETTO:-0600
TZNAME:CST
DTSTART:20221106T070000
END:STANDARD
END:VTIMEZONE
BEGIN:VEVENT
DTSTART;TZID=America/Chicago:20210422T180000
DTEND;TZID=America/Chicago:20210422T190000
DTSTAMP:20260424T193514
CREATED:20210314T214131Z
LAST-MODIFIED:20210314T214131Z
UID:9961-1619114400-1619118000@www.cardunaldogtraining.com
SUMMARY:Open - Utility No Instruction
DESCRIPTION:
URL:https://www.cardunaldogtraining.com/event/open-utility-no-instruction/2021-04-22/
LOCATION:CarDunAl Dog Training Club\, 10783 Wolf Dr.\, Huntley\, IL\, 60142\, United States
END:VEVENT
BEGIN:VEVENT
DTSTART;TZID=America/Chicago:20210421T181500
DTEND;TZID=America/Chicago:20210421T191500
DTSTAMP:20260424T193514
CREATED:20210330T195649Z
LAST-MODIFIED:20210330T195649Z
UID:10254-1619028900-1619032500@www.cardunaldogtraining.com
SUMMARY:Continuing Scent Work
DESCRIPTION:
URL:https://www.cardunaldogtraining.com/event/continuing-scent-work-2/2021-04-21/
LOCATION:CarDunAl Dog Training Club\, 10783 Wolf Dr.\, Huntley\, IL\, 60142\, United States
END:VEVENT
BEGIN:VEVENT
DTSTART;TZID=America/Chicago:20210421T100000
DTEND;TZID=America/Chicago:20210421T110000
DTSTAMP:20260424T193514
CREATED:20210314T213902Z
LAST-MODIFIED:20210314T213902Z
UID:9939-1618999200-1619002800@www.cardunaldogtraining.com
SUMMARY:Mid-Utility Class
DESCRIPTION:
URL:https://www.cardunaldogtraining.com/event/mid-utility-class/2021-04-21/
LOCATION:CarDunAl Dog Training Club\, 10783 Wolf Dr.\, Huntley\, IL\, 60142\, United States
END:VEVENT
BEGIN:VEVENT
DTSTART;TZID=America/Chicago:20210421T100000
DTEND;TZID=America/Chicago:20210421T110000
DTSTAMP:20260424T193514
CREATED:20210314T213512Z
LAST-MODIFIED:20210314T213512Z
UID:9897-1618999200-1619002800@www.cardunaldogtraining.com
SUMMARY:Novice Class
DESCRIPTION:
URL:https://www.cardunaldogtraining.com/event/novice-class/2021-04-21/
LOCATION:CarDunAl Dog Training Club\, 10783 Wolf Dr.\, Huntley\, IL\, 60142\, United States
END:VEVENT
BEGIN:VEVENT
DTSTART;TZID=America/Chicago:20210421T090000
DTEND;TZID=America/Chicago:20210421T100000
DTSTAMP:20260424T193514
CREATED:20210314T213212Z
LAST-MODIFIED:20210316T152939Z
UID:9865-1618995600-1618999200@www.cardunaldogtraining.com
SUMMARY:Utility Class
DESCRIPTION:
URL:https://www.cardunaldogtraining.com/event/utility-class/2021-04-21/
LOCATION:CarDunAl Dog Training Club\, 10783 Wolf Dr.\, Huntley\, IL\, 60142\, United States
END:VEVENT
BEGIN:VEVENT
DTSTART;TZID=America/Chicago:20210417T083000
DTEND;TZID=America/Chicago:20210417T120000
DTSTAMP:20260424T193514
CREATED:20210314T183147Z
LAST-MODIFIED:20210314T190959Z
UID:9666-1618648200-1618660800@www.cardunaldogtraining.com
SUMMARY:Agility Run Thru
DESCRIPTION:No Entries Accepted after 11:00AM
URL:https://www.cardunaldogtraining.com/event/agility-run-thru/
LOCATION:CarDunAl Dog Training Club\, 10783 Wolf Dr.\, Huntley\, IL\, 60142\, United States
CATEGORIES:Agility
END:VEVENT
BEGIN:VEVENT
DTSTART;TZID=America/Chicago:20210413T184500
DTEND;TZID=America/Chicago:20210413T194500
DTSTAMP:20260424T193514
CREATED:20210309T005053Z
LAST-MODIFIED:20210309T005053Z
UID:9562-1618339500-1618343100@www.cardunaldogtraining.com
SUMMARY:Advanced Agility 1
DESCRIPTION:
URL:https://www.cardunaldogtraining.com/event/advanced-agility-1/2021-04-13/
LOCATION:CarDunAl Dog Training Club\, 10783 Wolf Dr.\, Huntley\, IL\, 60142\, United States
CATEGORIES:Agility
END:VEVENT
BEGIN:VEVENT
DTSTART;TZID=America/Chicago:20210412T200000
DTEND;TZID=America/Chicago:20210412T210000
DTSTAMP:20260424T193514
CREATED:20210309T004222Z
LAST-MODIFIED:20210309T004222Z
UID:9550-1618257600-1618261200@www.cardunaldogtraining.com
SUMMARY:Intermediate Agility
DESCRIPTION:
URL:https://www.cardunaldogtraining.com/event/intermediate-agility-2/2021-04-12/
LOCATION:CarDunAl Dog Training Club\, 10783 Wolf Dr.\, Huntley\, IL\, 60142\, United States
CATEGORIES:Agility
END:VEVENT
BEGIN:VEVENT
DTSTART;TZID=America/Chicago:20210412T200000
DTEND;TZID=America/Chicago:20210412T210000
DTSTAMP:20260424T193514
CREATED:20210309T003609Z
LAST-MODIFIED:20210309T003652Z
UID:9511-1618257600-1618261200@www.cardunaldogtraining.com
SUMMARY:Intermediate
DESCRIPTION:
URL:https://www.cardunaldogtraining.com/event/intermediate/2021-04-12/
LOCATION:CarDunAl Dog Training Club\, 10783 Wolf Dr.\, Huntley\, IL\, 60142\, United States
CATEGORIES:Agility
END:VEVENT
BEGIN:VEVENT
DTSTART;TZID=America/Chicago:20210412T200000
DTEND;TZID=America/Chicago:20210412T210000
DTSTAMP:20260424T193514
CREATED:20210309T003235Z
LAST-MODIFIED:20210309T003941Z
UID:9499-1618257600-1618261200@www.cardunaldogtraining.com
SUMMARY:Intermediate
DESCRIPTION:
URL:https://www.cardunaldogtraining.com/event/intermediate-agility/2021-04-12/
LOCATION:CarDunAl Dog Training Club\, 10783 Wolf Dr.\, Huntley\, IL\, 60142\, United States
CATEGORIES:Agility
END:VEVENT
BEGIN:VEVENT
DTSTART;TZID=America/Chicago:20210412T200000
DTEND;TZID=America/Chicago:20210412T210000
DTSTAMP:20260424T193514
CREATED:20210309T002622Z
LAST-MODIFIED:20210309T002622Z
UID:9477-1618257600-1618261200@www.cardunaldogtraining.com
SUMMARY:Beginner Competition
DESCRIPTION:
URL:https://www.cardunaldogtraining.com/event/beginner-competition/2021-04-12/
LOCATION:CarDunAl Dog Training Club\, 10783 Wolf Dr.\, Huntley\, IL\, 60142\, United States
CATEGORIES:Agility
END:VEVENT
BEGIN:VEVENT
DTSTART;TZID=America/Chicago:20210412T190000
DTEND;TZID=America/Chicago:20210412T200000
DTSTAMP:20260424T193514
CREATED:20210309T002512Z
LAST-MODIFIED:20210309T002512Z
UID:9466-1618254000-1618257600@www.cardunaldogtraining.com
SUMMARY:Master Competition
DESCRIPTION:
URL:https://www.cardunaldogtraining.com/event/master-competition-2/2021-04-12/
LOCATION:CarDunAl Dog Training Club\, 10783 Wolf Dr.\, Huntley\, IL\, 60142\, United States
CATEGORIES:Agility
END:VEVENT
BEGIN:VEVENT
DTSTART;TZID=America/Chicago:20210412T184500
DTEND;TZID=America/Chicago:20210412T194500
DTSTAMP:20260424T193514
CREATED:20210309T002751Z
LAST-MODIFIED:20210309T003720Z
UID:9488-1618253100-1618256700@www.cardunaldogtraining.com
SUMMARY:Beginner Agility
DESCRIPTION:
URL:https://www.cardunaldogtraining.com/event/beginner-agility/2021-04-12/
LOCATION:CarDunAl Dog Training Club\, 10783 Wolf Dr.\, Huntley\, IL\, 60142\, United States
CATEGORIES:Agility
END:VEVENT
BEGIN:VEVENT
DTSTART;TZID=America/Chicago:20210412T180000
DTEND;TZID=America/Chicago:20210412T190000
DTSTAMP:20260424T193514
CREATED:20210309T002352Z
LAST-MODIFIED:20210309T002352Z
UID:9455-1618250400-1618254000@www.cardunaldogtraining.com
SUMMARY:Advanced 2
DESCRIPTION:
URL:https://www.cardunaldogtraining.com/event/advanced-2/2021-04-12/
LOCATION:CarDunAl Dog Training Club\, 10783 Wolf Dr.\, Huntley\, IL\, 60142\, United States
CATEGORIES:Agility
END:VEVENT
BEGIN:VEVENT
DTSTART;TZID=America/Chicago:20210412T090000
DTEND;TZID=America/Chicago:20210412T103000
DTSTAMP:20260424T193514
CREATED:20210309T002234Z
LAST-MODIFIED:20210309T002234Z
UID:9444-1618218000-1618223400@www.cardunaldogtraining.com
SUMMARY:Master Competition
DESCRIPTION:
URL:https://www.cardunaldogtraining.com/event/master-competition/2021-04-12/
LOCATION:CarDunAl Dog Training Club\, 10783 Wolf Dr.\, Huntley\, IL\, 60142\, United States
CATEGORIES:Agility
END:VEVENT
BEGIN:VEVENT
DTSTART;TZID=America/Chicago:20210402T063000
DTEND;TZID=America/Chicago:20210404T180000
DTSTAMP:20260424T193514
CREATED:20210210T181140Z
LAST-MODIFIED:20210210T182805Z
UID:9092-1617345000-1617559200@www.cardunaldogtraining.com
SUMMARY:Fox Valley - Agility Trial
DESCRIPTION:Dates:  4/2/21 – 4/4/21  (Fox Valley Dog Training Club) \nPlease go to the “Clinics-Trials-Events” tab to download a copy of the premium (when it becomes available). \nLocation: Trial to be held at Car-Dun-Al ODTC\,  Huntley\, IL.
URL:https://www.cardunaldogtraining.com/event/fox-valley-agility-trial/
LOCATION:CarDunAl Dog Training Club\, 10783 Wolf Dr.\, Huntley\, IL\, 60142\, United States
CATEGORIES:Agility
END:VEVENT
BEGIN:VEVENT
DTSTART;TZID=America/Chicago:20210327T100000
DTEND;TZID=America/Chicago:20210327T150000
DTSTAMP:20260424T193514
CREATED:20210225T210014Z
LAST-MODIFIED:20210225T210503Z
UID:9303-1616839200-1616857200@www.cardunaldogtraining.com
SUMMARY:Sniffing Eggs-travaganza with Easter Egg Hunt
DESCRIPTION:
URL:https://www.cardunaldogtraining.com/event/sniffing-eggs-travaganza-with-easter-egg-hunt/
LOCATION:CarDunAl Dog Training Club\, 10783 Wolf Dr.\, Huntley\, IL\, 60142\, United States
CATEGORIES:Events
END:VEVENT
BEGIN:VEVENT
DTSTART;TZID=America/Chicago:20210320T063000
DTEND;TZID=America/Chicago:20210320T170000
DTSTAMP:20260424T193514
CREATED:20210226T192211Z
LAST-MODIFIED:20210226T192211Z
UID:9332-1616221800-1616259600@www.cardunaldogtraining.com
SUMMARY:Car-Dun-Al Agility Trial
DESCRIPTION:Location: Trial to be held at Car-Dun-Al ODTC\,  Huntley\, IL \nPlease go to the Trials to download a copy of the premium (when it becomes available).
URL:https://www.cardunaldogtraining.com/event/car-dun-al-agility-trial/2021-03-20/
LOCATION:CarDunAl Dog Training Club\, 10783 Wolf Dr.\, Huntley\, IL\, 60142\, United States
CATEGORIES:Agility
END:VEVENT
BEGIN:VEVENT
DTSTART;TZID=America/Chicago:20210319T063000
DTEND;TZID=America/Chicago:20210319T170000
DTSTAMP:20260424T193514
CREATED:20210226T192110Z
LAST-MODIFIED:20210226T192110Z
UID:9330-1616135400-1616173200@www.cardunaldogtraining.com
SUMMARY:BMDC Agility Trial
DESCRIPTION:Location: Trial to be held at Car-Dun-Al ODTC\,  Huntley\, IL \nPlease go to the Trials to download a copy of the premium (when it becomes available).
URL:https://www.cardunaldogtraining.com/event/bmdc-agility-trial/
LOCATION:CarDunAl Dog Training Club\, 10783 Wolf Dr.\, Huntley\, IL\, 60142\, United States
CATEGORIES:Agility
END:VEVENT
BEGIN:VEVENT
DTSTART;VALUE=DATE:20210312
DTEND;VALUE=DATE:20210313
DTSTAMP:20260424T193514
CREATED:20210226T190651Z
LAST-MODIFIED:20210226T190651Z
UID:9316-1615507200-1615593599@www.cardunaldogtraining.com
SUMMARY:Mat Cleaning
DESCRIPTION:
URL:https://www.cardunaldogtraining.com/event/mat-cleaning-2/
LOCATION:CarDunAl Dog Training Club\, 10783 Wolf Dr.\, Huntley\, IL\, 60142\, United States
END:VEVENT
BEGIN:VEVENT
DTSTART;TZID=America/Chicago:20210311T133000
DTEND;TZID=America/Chicago:20210311T143000
DTSTAMP:20260424T193514
CREATED:20210309T002045Z
LAST-MODIFIED:20210309T002045Z
UID:9436-1615469400-1615473000@www.cardunaldogtraining.com
SUMMARY:Beginners Class
DESCRIPTION:
URL:https://www.cardunaldogtraining.com/event/beginners-class/2021-03-11/
LOCATION:CarDunAl Dog Training Club\, 10783 Wolf Dr.\, Huntley\, IL\, 60142\, United States
END:VEVENT
BEGIN:VEVENT
DTSTART;TZID=America/Chicago:20210309T193000
DTEND;TZID=America/Chicago:20210309T203000
DTSTAMP:20260424T193514
CREATED:20210309T001911Z
LAST-MODIFIED:20210309T005823Z
UID:9428-1615318200-1615321800@www.cardunaldogtraining.com
SUMMARY:Pre-Beginners Class
DESCRIPTION:
URL:https://www.cardunaldogtraining.com/event/pre-beginners-class/2021-03-09/
LOCATION:CarDunAl Dog Training Club\, 10783 Wolf Dr.\, Huntley\, IL\, 60142\, United States
CATEGORIES:AKC Star Puppy / Pre-Beginners Class
END:VEVENT
BEGIN:VEVENT
DTSTART;TZID=America/Chicago:20210309T181500
DTEND;TZID=America/Chicago:20210309T191500
DTSTAMP:20260424T193514
CREATED:20210309T001325Z
LAST-MODIFIED:20210309T001603Z
UID:9416-1615313700-1615317300@www.cardunaldogtraining.com
SUMMARY:Puppy Classes
DESCRIPTION:
URL:https://www.cardunaldogtraining.com/event/puppy-classes/2021-03-09/
LOCATION:CarDunAl Dog Training Club\, 10783 Wolf Dr.\, Huntley\, IL\, 60142\, United States
CATEGORIES:AKC Star Puppy / Pre-Beginners Class
END:VEVENT
BEGIN:VEVENT
DTSTART;TZID=America/Chicago:20210307T100000
DTEND;TZID=America/Chicago:20210307T140000
DTSTAMP:20260424T193514
CREATED:20210301T214124Z
LAST-MODIFIED:20210301T221225Z
UID:9356-1615111200-1615125600@www.cardunaldogtraining.com
SUMMARY:Buried Clinic
DESCRIPTION:Buried Clinic \n\n4 runs same dog in the same level for $25.00\nWe are offering Novice\, Advanced\, Excellent and Master\nPlease enter the level you want in the “Special Needs” text box\nSome socially distanced indoor crating will be available.\nAdd runs at the same level $5.00 each paid day of.\n\n 
URL:https://www.cardunaldogtraining.com/event/buried-clinic/
LOCATION:CarDunAl Dog Training Club\, 10783 Wolf Dr.\, Huntley\, IL\, 60142\, United States
CATEGORIES:Events
END:VEVENT
BEGIN:VEVENT
DTSTART;TZID=America/Chicago:20210227T070000
DTEND;TZID=America/Chicago:20210227T170000
DTSTAMP:20260424T193514
CREATED:20210226T191820Z
LAST-MODIFIED:20210226T192006Z
UID:9325-1614409200-1614445200@www.cardunaldogtraining.com
SUMMARY:Shoreline GSD Club
DESCRIPTION:Location: Trial to be held at Car-Dun-Al ODTC\,  Huntley\, IL \n 
URL:https://www.cardunaldogtraining.com/event/shoreline-gsd-club/2021-02-27/
LOCATION:CarDunAl Dog Training Club\, 10783 Wolf Dr.\, Huntley\, IL\, 60142\, United States
CATEGORIES:Conformation
END:VEVENT
BEGIN:VEVENT
DTSTART;TZID=America/Chicago:20210210T080000
DTEND;TZID=America/Chicago:20210210T170000
DTSTAMP:20260424T193514
CREATED:20210210T181422Z
LAST-MODIFIED:20210210T181816Z
UID:9094-1612944000-1612976400@www.cardunaldogtraining.com
SUMMARY:Cardunal - Fast Coursing Ability Tests
DESCRIPTION:Dates:  5/15/21 – 5/16/32 \nFast Coursing Ability Tests to be held at: \nMcHenry County Fairgrounds\, 12015 County Club Road\, Woodstock. IL 60098
URL:https://www.cardunaldogtraining.com/event/cardunal-fast-coursing-ability-tests/
LOCATION:McHenry County Fairgrounds\, 12015 County Club Road\, Woodstock\, IL\, 60098\, United States
CATEGORIES:Clinics,Events,Trials
END:VEVENT
END:VCALENDAR