BEGIN:VCALENDAR
VERSION:2.0
PRODID:-//Car-Dun-Al Dog Obedience Training Club - ECPv6.15.17.1//NONSGML v1.0//EN
CALSCALE:GREGORIAN
METHOD:PUBLISH
X-ORIGINAL-URL:https://www.cardunaldogtraining.com
X-WR-CALDESC:Events for Car-Dun-Al Dog Obedience Training Club
REFRESH-INTERVAL;VALUE=DURATION:PT1H
X-Robots-Tag:noindex
X-PUBLISHED-TTL:PT1H
BEGIN:VTIMEZONE
TZID:America/Chicago
BEGIN:DAYLIGHT
TZOFFSETFROM:-0600
TZOFFSETTO:-0500
TZNAME:CDT
DTSTART:20240310T080000
END:DAYLIGHT
BEGIN:STANDARD
TZOFFSETFROM:-0500
TZOFFSETTO:-0600
TZNAME:CST
DTSTART:20241103T070000
END:STANDARD
BEGIN:DAYLIGHT
TZOFFSETFROM:-0600
TZOFFSETTO:-0500
TZNAME:CDT
DTSTART:20250309T080000
END:DAYLIGHT
BEGIN:STANDARD
TZOFFSETFROM:-0500
TZOFFSETTO:-0600
TZNAME:CST
DTSTART:20251102T070000
END:STANDARD
BEGIN:DAYLIGHT
TZOFFSETFROM:-0600
TZOFFSETTO:-0500
TZNAME:CDT
DTSTART:20260308T080000
END:DAYLIGHT
BEGIN:STANDARD
TZOFFSETFROM:-0500
TZOFFSETTO:-0600
TZNAME:CST
DTSTART:20261101T070000
END:STANDARD
END:VTIMEZONE
BEGIN:VEVENT
DTSTART;TZID=America/Chicago:20250120T200000
DTEND;TZID=America/Chicago:20250120T210000
DTSTAMP:20260425T060555
CREATED:20241221T031627Z
LAST-MODIFIED:20241221T031627Z
UID:25641-1737403200-1737406800@www.cardunaldogtraining.com
SUMMARY:Advanced Agility Level 5
DESCRIPTION:
URL:https://www.cardunaldogtraining.com/event/advanced-agility-level-5-4/2025-01-20/
LOCATION:CarDunAl Dog Training Club\, 10783 Wolf Dr.\, Huntley\, IL\, 60142\, United States
CATEGORIES:Agility
END:VEVENT
BEGIN:VEVENT
DTSTART;TZID=America/Chicago:20250121T090000
DTEND;TZID=America/Chicago:20250121T100000
DTSTAMP:20260425T060555
CREATED:20241221T025558Z
LAST-MODIFIED:20241221T025558Z
UID:25498-1737450000-1737453600@www.cardunaldogtraining.com
SUMMARY:Scent Work Level 3
DESCRIPTION:
URL:https://www.cardunaldogtraining.com/event/scent-work-level-3-8/2025-01-21/
LOCATION:CarDunAl Dog Training Club\, 10783 Wolf Dr.\, Huntley\, IL\, 60142\, United States
CATEGORIES:Scent Work
END:VEVENT
BEGIN:VEVENT
DTSTART;TZID=America/Chicago:20250121T100000
DTEND;TZID=America/Chicago:20250121T110000
DTSTAMP:20260425T060555
CREATED:20241221T025703Z
LAST-MODIFIED:20241221T025703Z
UID:25509-1737453600-1737457200@www.cardunaldogtraining.com
SUMMARY:Scent Work Level 3
DESCRIPTION:
URL:https://www.cardunaldogtraining.com/event/scent-work-level-3-9/2025-01-21/
LOCATION:CarDunAl Dog Training Club\, 10783 Wolf Dr.\, Huntley\, IL\, 60142\, United States
CATEGORIES:Scent Work
END:VEVENT
BEGIN:VEVENT
DTSTART;TZID=America/Chicago:20250121T110000
DTEND;TZID=America/Chicago:20250121T120000
DTSTAMP:20260425T060555
CREATED:20241221T025800Z
LAST-MODIFIED:20241221T025800Z
UID:25520-1737457200-1737460800@www.cardunaldogtraining.com
SUMMARY:Scent Work Level 3
DESCRIPTION:
URL:https://www.cardunaldogtraining.com/event/scent-work-level-3-10/2025-01-21/
LOCATION:CarDunAl Dog Training Club\, 10783 Wolf Dr.\, Huntley\, IL\, 60142\, United States
CATEGORIES:Scent Work
END:VEVENT
BEGIN:VEVENT
DTSTART;TZID=America/Chicago:20250121T123000
DTEND;TZID=America/Chicago:20250121T133000
DTSTAMP:20260425T060555
CREATED:20241221T025903Z
LAST-MODIFIED:20241221T025903Z
UID:25531-1737462600-1737466200@www.cardunaldogtraining.com
SUMMARY:Scent Work Level 2
DESCRIPTION:
URL:https://www.cardunaldogtraining.com/event/scent-work-level-2-6/2025-01-21/
LOCATION:CarDunAl Dog Training Club\, 10783 Wolf Dr.\, Huntley\, IL\, 60142\, United States
CATEGORIES:Scent Work
END:VEVENT
BEGIN:VEVENT
DTSTART;TZID=America/Chicago:20250121T140000
DTEND;TZID=America/Chicago:20250121T150000
DTSTAMP:20260425T060555
CREATED:20241221T030016Z
LAST-MODIFIED:20241221T030016Z
UID:25542-1737468000-1737471600@www.cardunaldogtraining.com
SUMMARY:Scent Work Level 1
DESCRIPTION:
URL:https://www.cardunaldogtraining.com/event/scent-work-level-1-6/2025-01-21/
LOCATION:CarDunAl Dog Training Club\, 10783 Wolf Dr.\, Huntley\, IL\, 60142\, United States
CATEGORIES:Scent Work
END:VEVENT
BEGIN:VEVENT
DTSTART;TZID=America/Chicago:20250121T150000
DTEND;TZID=America/Chicago:20250121T160000
DTSTAMP:20260425T060555
CREATED:20241221T030103Z
LAST-MODIFIED:20241221T030103Z
UID:25553-1737471600-1737475200@www.cardunaldogtraining.com
SUMMARY:Scent Work Level 1
DESCRIPTION:
URL:https://www.cardunaldogtraining.com/event/scent-work-level-1-7/2025-01-21/
LOCATION:CarDunAl Dog Training Club\, 10783 Wolf Dr.\, Huntley\, IL\, 60142\, United States
CATEGORIES:Scent Work
END:VEVENT
BEGIN:VEVENT
DTSTART;TZID=America/Chicago:20250121T180000
DTEND;TZID=America/Chicago:20250121T190000
DTSTAMP:20260425T060555
CREATED:20241215T020010Z
LAST-MODIFIED:20241215T020010Z
UID:24997-1737482400-1737486000@www.cardunaldogtraining.com
SUMMARY:Puppy Class Obedience
DESCRIPTION:
URL:https://www.cardunaldogtraining.com/event/puppy-class-obedience-10/2025-01-21/
LOCATION:CarDunAl Dog Training Club\, 10783 Wolf Dr.\, Huntley\, IL\, 60142\, United States
CATEGORIES:AKC Star Puppy / Pre-Beginners Class
END:VEVENT
BEGIN:VEVENT
DTSTART;TZID=America/Chicago:20250121T193000
DTEND;TZID=America/Chicago:20250121T203000
DTSTAMP:20260425T060555
CREATED:20241221T031757Z
LAST-MODIFIED:20241221T031757Z
UID:25652-1737487800-1737491400@www.cardunaldogtraining.com
SUMMARY:Advanced Agility Level 3
DESCRIPTION:
URL:https://www.cardunaldogtraining.com/event/advanced-agility-level-3/2025-01-21/
LOCATION:CarDunAl Dog Training Club\, 10783 Wolf Dr.\, Huntley\, IL\, 60142\, United States
CATEGORIES:Agility
END:VEVENT
BEGIN:VEVENT
DTSTART;TZID=America/Chicago:20250122T093000
DTEND;TZID=America/Chicago:20250122T100000
DTSTAMP:20260425T060555
CREATED:20241221T022836Z
LAST-MODIFIED:20241221T022836Z
UID:25407-1737538200-1737540000@www.cardunaldogtraining.com
SUMMARY:Open/Utility Obedience – No Instructor
DESCRIPTION:
URL:https://www.cardunaldogtraining.com/event/open-utility-obedience-no-instructor-16/2025-01-22/
LOCATION:CarDunAl Dog Training Club\, 10783 Wolf Dr.\, Huntley\, IL\, 60142\, United States
CATEGORIES:Advanced
END:VEVENT
BEGIN:VEVENT
DTSTART;TZID=America/Chicago:20250122T100000
DTEND;TZID=America/Chicago:20250122T110000
DTSTAMP:20260425T060555
CREATED:20241221T021126Z
LAST-MODIFIED:20241221T021126Z
UID:25341-1737540000-1737543600@www.cardunaldogtraining.com
SUMMARY:Novice Obedience
DESCRIPTION:
URL:https://www.cardunaldogtraining.com/event/novice-obedience-22/2025-01-22/
LOCATION:CarDunAl Dog Training Club\, 10783 Wolf Dr.\, Huntley\, IL\, 60142\, United States
CATEGORIES:Advanced
END:VEVENT
BEGIN:VEVENT
DTSTART;TZID=America/Chicago:20250122T100000
DTEND;TZID=America/Chicago:20250122T110000
DTSTAMP:20260425T060555
CREATED:20241221T022227Z
LAST-MODIFIED:20241221T022227Z
UID:25374-1737540000-1737543600@www.cardunaldogtraining.com
SUMMARY:Open Obedience
DESCRIPTION:
URL:https://www.cardunaldogtraining.com/event/open-obedience-19/2025-01-22/
LOCATION:CarDunAl Dog Training Club\, 10783 Wolf Dr.\, Huntley\, IL\, 60142\, United States
CATEGORIES:Advanced
END:VEVENT
BEGIN:VEVENT
DTSTART;TZID=America/Chicago:20250122T100000
DTEND;TZID=America/Chicago:20250122T120000
DTSTAMP:20260425T060556
CREATED:20250106T192713Z
LAST-MODIFIED:20250106T192713Z
UID:25835-1737540000-1737547200@www.cardunaldogtraining.com
SUMMARY:Drop In Obedience Training
DESCRIPTION:
URL:https://www.cardunaldogtraining.com/event/drop-in-obedience-training-4/2025-01-22/
LOCATION:CarDunAl Dog Training Club\, 10783 Wolf Dr.\, Huntley\, IL\, 60142\, United States
CATEGORIES:Drop In Training
END:VEVENT
BEGIN:VEVENT
DTSTART;TZID=America/Chicago:20250122T113000
DTEND;TZID=America/Chicago:20250122T123000
DTSTAMP:20260425T060556
CREATED:20241221T023333Z
LAST-MODIFIED:20241221T023333Z
UID:25429-1737545400-1737549000@www.cardunaldogtraining.com
SUMMARY:Beginner Obedience
DESCRIPTION:
URL:https://www.cardunaldogtraining.com/event/beginner-obedience-32/2025-01-22/
LOCATION:CarDunAl Dog Training Club\, 10783 Wolf Dr.\, Huntley\, IL\, 60142\, United States
CATEGORIES:Beginners
END:VEVENT
BEGIN:VEVENT
DTSTART;TZID=America/Chicago:20250122T120000
DTEND;TZID=America/Chicago:20250122T133000
DTSTAMP:20260425T060556
CREATED:20241222T021525Z
LAST-MODIFIED:20241222T021525Z
UID:25667-1737547200-1737552600@www.cardunaldogtraining.com
SUMMARY:Drop In Rally
DESCRIPTION:
URL:https://www.cardunaldogtraining.com/event/drop-in-rally-2/2025-01-22/
LOCATION:CarDunAl Dog Training Club\, 10783 Wolf Dr.\, Huntley\, IL\, 60142\, United States
CATEGORIES:Drop In Training
END:VEVENT
BEGIN:VEVENT
DTSTART;TZID=America/Chicago:20250122T190000
DTEND;TZID=America/Chicago:20250122T200000
DTSTAMP:20260425T060556
CREATED:20250106T192935Z
LAST-MODIFIED:20251120T012556Z
UID:25886-1737572400-1737576000@www.cardunaldogtraining.com
SUMMARY:Drop In Conformation
DESCRIPTION:
URL:https://www.cardunaldogtraining.com/event/drop-in-conformation-2/2025-01-22/
LOCATION:CarDunAl Dog Training Club\, 10783 Wolf Dr.\, Huntley\, IL\, 60142\, United States
CATEGORIES:Conformation
END:VEVENT
BEGIN:VEVENT
DTSTART;TZID=America/Chicago:20250123T120000
DTEND;TZID=America/Chicago:20250123T130000
DTSTAMP:20260425T060556
CREATED:20241215T020208Z
LAST-MODIFIED:20241215T020641Z
UID:25010-1737633600-1737637200@www.cardunaldogtraining.com
SUMMARY:Puppy Class Obedience
DESCRIPTION:
URL:https://www.cardunaldogtraining.com/event/puppy-class-obedience-11/2025-01-23/
LOCATION:CarDunAl Dog Training Club\, 10783 Wolf Dr.\, Huntley\, IL\, 60142\, United States
CATEGORIES:AKC Star Puppy / Pre-Beginners Class
END:VEVENT
BEGIN:VEVENT
DTSTART;TZID=America/Chicago:20250123T133000
DTEND;TZID=America/Chicago:20250123T143000
DTSTAMP:20260425T060556
CREATED:20241221T023500Z
LAST-MODIFIED:20241221T023500Z
UID:25441-1737639000-1737642600@www.cardunaldogtraining.com
SUMMARY:Beginner Obedience
DESCRIPTION:
URL:https://www.cardunaldogtraining.com/event/beginner-obedience-33/2025-01-23/
LOCATION:CarDunAl Dog Training Club\, 10783 Wolf Dr.\, Huntley\, IL\, 60142\, United States
CATEGORIES:Beginners
END:VEVENT
BEGIN:VEVENT
DTSTART;TZID=America/Chicago:20250123T170000
DTEND;TZID=America/Chicago:20250123T180000
DTSTAMP:20260425T060556
CREATED:20241221T024235Z
LAST-MODIFIED:20241221T024235Z
UID:25488-1737651600-1737655200@www.cardunaldogtraining.com
SUMMARY:Utility Obedience
DESCRIPTION:
URL:https://www.cardunaldogtraining.com/event/utility-obedience-10/2025-01-23/
LOCATION:CarDunAl Dog Training Club\, 10783 Wolf Dr.\, Huntley\, IL\, 60142\, United States
CATEGORIES:Advanced
END:VEVENT
BEGIN:VEVENT
DTSTART;TZID=America/Chicago:20250123T173000
DTEND;TZID=America/Chicago:20250123T183000
DTSTAMP:20260425T060556
CREATED:20241221T023018Z
LAST-MODIFIED:20241221T023018Z
UID:25419-1737653400-1737657000@www.cardunaldogtraining.com
SUMMARY:Open/Utility Obedience – No Instructor
DESCRIPTION:
URL:https://www.cardunaldogtraining.com/event/open-utility-obedience-no-instructor-17/2025-01-23/
LOCATION:CarDunAl Dog Training Club\, 10783 Wolf Dr.\, Huntley\, IL\, 60142\, United States
CATEGORIES:Advanced
END:VEVENT
BEGIN:VEVENT
DTSTART;TZID=America/Chicago:20250123T173000
DTEND;TZID=America/Chicago:20250123T190000
DTSTAMP:20260425T060556
CREATED:20250110T025939Z
LAST-MODIFIED:20250831T174308Z
UID:25950-1737653400-1737658800@www.cardunaldogtraining.com
SUMMARY:Drop In Rally Training
DESCRIPTION:
URL:https://www.cardunaldogtraining.com/event/drop-in-rally-training-3/2025-01-23/
LOCATION:CarDunAl Dog Training Club\, 10783 Wolf Dr.\, Huntley\, IL\, 60142\, United States
CATEGORIES:Drop In Training
END:VEVENT
BEGIN:VEVENT
DTSTART;TZID=America/Chicago:20250123T180000
DTEND;TZID=America/Chicago:20250123T180000
DTSTAMP:20260425T060556
CREATED:20241221T022020Z
LAST-MODIFIED:20241221T022020Z
UID:25364-1737655200-1737655200@www.cardunaldogtraining.com
SUMMARY:Novice Obedience - Get Ready to Show
DESCRIPTION:
URL:https://www.cardunaldogtraining.com/event/novice-obedience-get-ready-to-show/2025-01-23/
LOCATION:CarDunAl Dog Training Club\, 10783 Wolf Dr.\, Huntley\, IL\, 60142\, United States
CATEGORIES:Advanced
END:VEVENT
BEGIN:VEVENT
DTSTART;TZID=America/Chicago:20250123T180000
DTEND;TZID=America/Chicago:20250123T190000
DTSTAMP:20260425T060556
CREATED:20241221T024014Z
LAST-MODIFIED:20241221T024014Z
UID:25466-1737655200-1737658800@www.cardunaldogtraining.com
SUMMARY:Pre-Utility Obedience
DESCRIPTION:
URL:https://www.cardunaldogtraining.com/event/pre-utility-obedience-4/2025-01-23/
LOCATION:CarDunAl Dog Training Club\, 10783 Wolf Dr.\, Huntley\, IL\, 60142\, United States
CATEGORIES:Advanced
END:VEVENT
BEGIN:VEVENT
DTSTART;TZID=America/Chicago:20250123T190000
DTEND;TZID=America/Chicago:20250123T200000
DTSTAMP:20260425T060556
CREATED:20241221T020835Z
LAST-MODIFIED:20241221T020835Z
UID:25331-1737658800-1737662400@www.cardunaldogtraining.com
SUMMARY:Beginner Novice Obedience
DESCRIPTION:
URL:https://www.cardunaldogtraining.com/event/beginner-novice-obedience-13/2025-01-23/
LOCATION:CarDunAl Dog Training Club\, 10783 Wolf Dr.\, Huntley\, IL\, 60142\, United States
CATEGORIES:Advanced
END:VEVENT
BEGIN:VEVENT
DTSTART;TZID=America/Chicago:20250123T190000
DTEND;TZID=America/Chicago:20250123T200000
DTSTAMP:20260425T060556
CREATED:20241221T021837Z
LAST-MODIFIED:20241221T021837Z
UID:25353-1737658800-1737662400@www.cardunaldogtraining.com
SUMMARY:Novice Obedience
DESCRIPTION:
URL:https://www.cardunaldogtraining.com/event/novice-obedience-23/2025-01-23/
LOCATION:CarDunAl Dog Training Club\, 10783 Wolf Dr.\, Huntley\, IL\, 60142\, United States
CATEGORIES:Advanced
END:VEVENT
BEGIN:VEVENT
DTSTART;TZID=America/Chicago:20250123T190000
DTEND;TZID=America/Chicago:20250123T200000
DTSTAMP:20260425T060556
CREATED:20241221T024123Z
LAST-MODIFIED:20241221T024123Z
UID:25477-1737658800-1737662400@www.cardunaldogtraining.com
SUMMARY:Utility Obedience
DESCRIPTION:
URL:https://www.cardunaldogtraining.com/event/utility-obedience-9/2025-01-23/
LOCATION:CarDunAl Dog Training Club\, 10783 Wolf Dr.\, Huntley\, IL\, 60142\, United States
CATEGORIES:Advanced
END:VEVENT
BEGIN:VEVENT
DTSTART;TZID=America/Chicago:20250123T200000
DTEND;TZID=America/Chicago:20250123T210000
DTSTAMP:20260425T060556
CREATED:20241221T022514Z
LAST-MODIFIED:20241221T022514Z
UID:25386-1737662400-1737666000@www.cardunaldogtraining.com
SUMMARY:Pre-Open Obedience
DESCRIPTION:
URL:https://www.cardunaldogtraining.com/event/pre-open-obedience-15/2025-01-23/
LOCATION:CarDunAl Dog Training Club\, 10783 Wolf Dr.\, Huntley\, IL\, 60142\, United States
CATEGORIES:Advanced
END:VEVENT
BEGIN:VEVENT
DTSTART;TZID=America/Chicago:20250123T200000
DTEND;TZID=America/Chicago:20250123T210000
DTSTAMP:20260425T060556
CREATED:20241221T022631Z
LAST-MODIFIED:20241221T022631Z
UID:25397-1737662400-1737666000@www.cardunaldogtraining.com
SUMMARY:Open Obedience
DESCRIPTION:
URL:https://www.cardunaldogtraining.com/event/open-obedience-20/2025-01-23/
LOCATION:CarDunAl Dog Training Club\, 10783 Wolf Dr.\, Huntley\, IL\, 60142\, United States
CATEGORIES:Advanced
END:VEVENT
BEGIN:VEVENT
DTSTART;TZID=America/Chicago:20250123T200000
DTEND;TZID=America/Chicago:20250123T210000
DTSTAMP:20260425T060556
CREATED:20241221T023707Z
LAST-MODIFIED:20241221T023707Z
UID:25455-1737662400-1737666000@www.cardunaldogtraining.com
SUMMARY:Beginner Obedience
DESCRIPTION:
URL:https://www.cardunaldogtraining.com/event/beginner-obedience-35/2025-01-23/
LOCATION:CarDunAl Dog Training Club\, 10783 Wolf Dr.\, Huntley\, IL\, 60142\, United States
CATEGORIES:Advanced
END:VEVENT
BEGIN:VEVENT
DTSTART;VALUE=DATE:20250124
DTEND;VALUE=DATE:20250125
DTSTAMP:20260425T060556
CREATED:20241021T003321Z
LAST-MODIFIED:20241021T003409Z
UID:24615-1737676800-1737763199@www.cardunaldogtraining.com
SUMMARY:LaSalle Brittany Agility
DESCRIPTION:
URL:https://www.cardunaldogtraining.com/event/lasalle-brittany-agility-2/
LOCATION:CarDunAl Dog Training Club\, 10783 Wolf Dr.\, Huntley\, IL\, 60142\, United States
CATEGORIES:Trials
END:VEVENT
END:VCALENDAR