BEGIN:VCALENDAR
VERSION:2.0
PRODID:-//Car-Dun-Al Dog Obedience Training Club - ECPv6.15.17.1//NONSGML v1.0//EN
CALSCALE:GREGORIAN
METHOD:PUBLISH
X-WR-CALNAME:Car-Dun-Al Dog Obedience Training Club
X-ORIGINAL-URL:https://www.cardunaldogtraining.com
X-WR-CALDESC:Events for Car-Dun-Al Dog Obedience Training Club
REFRESH-INTERVAL;VALUE=DURATION:PT1H
X-Robots-Tag:noindex
X-PUBLISHED-TTL:PT1H
BEGIN:VTIMEZONE
TZID:America/Chicago
BEGIN:DAYLIGHT
TZOFFSETFROM:-0600
TZOFFSETTO:-0500
TZNAME:CDT
DTSTART:20250309T080000
END:DAYLIGHT
BEGIN:STANDARD
TZOFFSETFROM:-0500
TZOFFSETTO:-0600
TZNAME:CST
DTSTART:20251102T070000
END:STANDARD
BEGIN:DAYLIGHT
TZOFFSETFROM:-0600
TZOFFSETTO:-0500
TZNAME:CDT
DTSTART:20260308T080000
END:DAYLIGHT
BEGIN:STANDARD
TZOFFSETFROM:-0500
TZOFFSETTO:-0600
TZNAME:CST
DTSTART:20261101T070000
END:STANDARD
BEGIN:DAYLIGHT
TZOFFSETFROM:-0600
TZOFFSETTO:-0500
TZNAME:CDT
DTSTART:20270314T080000
END:DAYLIGHT
BEGIN:STANDARD
TZOFFSETFROM:-0500
TZOFFSETTO:-0600
TZNAME:CST
DTSTART:20271107T070000
END:STANDARD
END:VTIMEZONE
BEGIN:VEVENT
DTSTART;TZID=America/Chicago:20260312T173000
DTEND;TZID=America/Chicago:20260312T184500
DTSTAMP:20260420T054608
CREATED:20251231T011214Z
LAST-MODIFIED:20251231T021646Z
UID:29209-1773336600-1773341100@www.cardunaldogtraining.com
SUMMARY:Rally Drop-In Class
DESCRIPTION:
URL:https://www.cardunaldogtraining.com/event/rally-drop-in-class-3/2026-03-12/
LOCATION:CarDunAl Dog Training Club\, 10783 Wolf Dr.\, Huntley\, IL\, 60142\, United States
CATEGORIES:Drop In Training
END:VEVENT
BEGIN:VEVENT
DTSTART;TZID=America/Chicago:20260312T173000
DTEND;TZID=America/Chicago:20260312T183000
DTSTAMP:20260420T054608
CREATED:20251231T003107Z
LAST-MODIFIED:20251231T003107Z
UID:29102-1773336600-1773340200@www.cardunaldogtraining.com
SUMMARY:Open/Utility Obedience – No Instructor
DESCRIPTION:
URL:https://www.cardunaldogtraining.com/event/open-utility-obedience-no-instructor-25/2026-03-12/
LOCATION:CarDunAl Dog Training Club\, 10783 Wolf Dr.\, Huntley\, IL\, 60142\, United States
CATEGORIES:Advanced
END:VEVENT
BEGIN:VEVENT
DTSTART;TZID=America/Chicago:20260312T133000
DTEND;TZID=America/Chicago:20260312T143000
DTSTAMP:20260420T054608
CREATED:20251230T013631Z
LAST-MODIFIED:20251230T013631Z
UID:28864-1773322200-1773325800@www.cardunaldogtraining.com
SUMMARY:Beginner Obedience
DESCRIPTION:
URL:https://www.cardunaldogtraining.com/event/beginner-obedience-47/2026-03-12/
LOCATION:CarDunAl Dog Training Club\, 10783 Wolf Dr.\, Huntley\, IL\, 60142\, United States
CATEGORIES:Beginners
END:VEVENT
BEGIN:VEVENT
DTSTART;TZID=America/Chicago:20260312T120000
DTEND;TZID=America/Chicago:20260312T130000
DTSTAMP:20260420T054608
CREATED:20251230T021809Z
LAST-MODIFIED:20251230T021809Z
UID:28945-1773316800-1773320400@www.cardunaldogtraining.com
SUMMARY:Pre-Open Obedience
DESCRIPTION:
URL:https://www.cardunaldogtraining.com/event/pre-open-obedience-20/2026-03-12/
LOCATION:CarDunAl Dog Training Club\, 10783 Wolf Dr.\, Huntley\, IL\, 60142\, United States
CATEGORIES:Advanced
END:VEVENT
BEGIN:VEVENT
DTSTART;TZID=America/Chicago:20260311T190000
DTEND;TZID=America/Chicago:20260311T200000
DTSTAMP:20260420T054608
CREATED:20251231T012254Z
LAST-MODIFIED:20251231T012254Z
UID:29282-1773255600-1773259200@www.cardunaldogtraining.com
SUMMARY:Conformation Drop-In Training
DESCRIPTION:
URL:https://www.cardunaldogtraining.com/event/conformation-drop-in-training-2/2026-03-11/
LOCATION:CarDunAl Dog Training Club\, 10783 Wolf Dr.\, Huntley\, IL\, 60142\, United States
CATEGORIES:Drop In Training
END:VEVENT
BEGIN:VEVENT
DTSTART;TZID=America/Chicago:20260311T180000
DTEND;TZID=America/Chicago:20260311T184500
DTSTAMP:20260420T054608
CREATED:20251231T012028Z
LAST-MODIFIED:20251231T012028Z
UID:29232-1773252000-1773254700@www.cardunaldogtraining.com
SUMMARY:Novice Conformation Handling Class Drop-In Training
DESCRIPTION:
URL:https://www.cardunaldogtraining.com/event/novice-conformation-handling-class-drop-in-training/2026-03-11/
LOCATION:CarDunAl Dog Training Club\, 10783 Wolf Dr.\, Huntley\, IL\, 60142\, United States
END:VEVENT
BEGIN:VEVENT
DTSTART;TZID=America/Chicago:20260311T120000
DTEND;TZID=America/Chicago:20260311T133000
DTSTAMP:20260420T054608
CREATED:20251231T005740Z
LAST-MODIFIED:20260101T022928Z
UID:29177-1773230400-1773235800@www.cardunaldogtraining.com
SUMMARY:Rally Drop-In
DESCRIPTION:
URL:https://www.cardunaldogtraining.com/event/rally-drop-in-class/2026-03-11/
LOCATION:CarDunAl Dog Training Club\, 10783 Wolf Dr.\, Huntley\, IL\, 60142\, United States
CATEGORIES:Drop In Training
END:VEVENT
BEGIN:VEVENT
DTSTART;TZID=America/Chicago:20260311T120000
DTEND;TZID=America/Chicago:20260311T130000
DTSTAMP:20260420T054608
CREATED:20251230T013454Z
LAST-MODIFIED:20251230T013454Z
UID:28853-1773230400-1773234000@www.cardunaldogtraining.com
SUMMARY:Beginner Obedience
DESCRIPTION:
URL:https://www.cardunaldogtraining.com/event/beginner-obedience-46/2026-03-11/
LOCATION:CarDunAl Dog Training Club\, 10783 Wolf Dr.\, Huntley\, IL\, 60142\, United States
CATEGORIES:Beginners
END:VEVENT
BEGIN:VEVENT
DTSTART;TZID=America/Chicago:20260311T110000
DTEND;TZID=America/Chicago:20260311T120000
DTSTAMP:20260420T054608
CREATED:20251230T012457Z
LAST-MODIFIED:20251230T013117Z
UID:28823-1773226800-1773230400@www.cardunaldogtraining.com
SUMMARY:Novice Obedience
DESCRIPTION:
URL:https://www.cardunaldogtraining.com/event/novice-obedience-33/2026-03-11/
LOCATION:CarDunAl Dog Training Club\, 10783 Wolf Dr.\, Huntley\, IL\, 60142\, United States
CATEGORIES:Advanced
END:VEVENT
BEGIN:VEVENT
DTSTART;TZID=America/Chicago:20260311T100000
DTEND;TZID=America/Chicago:20260311T120000
DTSTAMP:20260420T054608
CREATED:20251231T012521Z
LAST-MODIFIED:20251231T012521Z
UID:29332-1773223200-1773230400@www.cardunaldogtraining.com
SUMMARY:Obedience Drop-In Training
DESCRIPTION:
URL:https://www.cardunaldogtraining.com/event/obedience-drop-in-training-3/2026-03-11/
LOCATION:CarDunAl Dog Training Club\, 10783 Wolf Dr.\, Huntley\, IL\, 60142\, United States
CATEGORIES:Drop In Training
END:VEVENT
BEGIN:VEVENT
DTSTART;TZID=America/Chicago:20260311T100000
DTEND;TZID=America/Chicago:20260311T110000
DTSTAMP:20260420T054608
CREATED:20251230T021220Z
LAST-MODIFIED:20251230T021220Z
UID:28912-1773223200-1773226800@www.cardunaldogtraining.com
SUMMARY:Open Obedience
DESCRIPTION:
URL:https://www.cardunaldogtraining.com/event/open-obedience-27/2026-03-11/
LOCATION:CarDunAl Dog Training Club\, 10783 Wolf Dr.\, Huntley\, IL\, 60142\, United States
CATEGORIES:Advanced
END:VEVENT
BEGIN:VEVENT
DTSTART;TZID=America/Chicago:20260311T100000
DTEND;TZID=America/Chicago:20260311T110000
DTSTAMP:20260420T054608
CREATED:20251230T012327Z
LAST-MODIFIED:20251230T012327Z
UID:28757-1773223200-1773226800@www.cardunaldogtraining.com
SUMMARY:Novice Obedience
DESCRIPTION:
URL:https://www.cardunaldogtraining.com/event/novice-obedience-32/2026-03-11/
LOCATION:CarDunAl Dog Training Club\, 10783 Wolf Dr.\, Huntley\, IL\, 60142\, United States
CATEGORIES:Advanced
END:VEVENT
BEGIN:VEVENT
DTSTART;TZID=America/Chicago:20260311T090000
DTEND;TZID=America/Chicago:20260311T100000
DTSTAMP:20260420T054608
CREATED:20251231T002901Z
LAST-MODIFIED:20251231T002901Z
UID:29092-1773219600-1773223200@www.cardunaldogtraining.com
SUMMARY:Open/Utility Obedience – No Instructor
DESCRIPTION:
URL:https://www.cardunaldogtraining.com/event/open-utility-obedience-no-instructor-24/2026-03-11/
LOCATION:CarDunAl Dog Training Club\, 10783 Wolf Dr.\, Huntley\, IL\, 60142\, United States
CATEGORIES:Advanced
END:VEVENT
BEGIN:VEVENT
DTSTART;TZID=America/Chicago:20260310T190000
DTEND;TZID=America/Chicago:20260310T200000
DTSTAMP:20260420T054608
CREATED:20251231T011408Z
LAST-MODIFIED:20251231T011408Z
UID:29221-1773169200-1773172800@www.cardunaldogtraining.com
SUMMARY:Novice Rally Class
DESCRIPTION:
URL:https://www.cardunaldogtraining.com/event/novice-rally-class/2026-03-10/
LOCATION:CarDunAl Dog Training Club\, 10783 Wolf Dr.\, Huntley\, IL\, 60142\, United States
CATEGORIES:Advanced
END:VEVENT
BEGIN:VEVENT
DTSTART;TZID=America/Chicago:20260310T190000
DTEND;TZID=America/Chicago:20260310T200000
DTSTAMP:20260420T054608
CREATED:20251231T002510Z
LAST-MODIFIED:20251231T002510Z
UID:29080-1773169200-1773172800@www.cardunaldogtraining.com
SUMMARY:Competition Agility Level 5
DESCRIPTION:
URL:https://www.cardunaldogtraining.com/event/competition-agility-level-5-14/2026-03-10/
LOCATION:CarDunAl Dog Training Club\, 10783 Wolf Dr.\, Huntley\, IL\, 60142\, United States
CATEGORIES:Agility
END:VEVENT
BEGIN:VEVENT
DTSTART;TZID=America/Chicago:20260310T180000
DTEND;TZID=America/Chicago:20260310T190000
DTSTAMP:20260420T054608
CREATED:20251230T011046Z
LAST-MODIFIED:20251230T011850Z
UID:28732-1773165600-1773169200@www.cardunaldogtraining.com
SUMMARY:Puppy Class Obedience
DESCRIPTION:
URL:https://www.cardunaldogtraining.com/event/puppy-class-obedience-17/2026-03-10/
LOCATION:CarDunAl Dog Training Club\, 10783 Wolf Dr.\, Huntley\, IL\, 60142\, United States
CATEGORIES:AKC Star Puppy / Pre-Beginners Class
END:VEVENT
BEGIN:VEVENT
DTSTART;TZID=America/Chicago:20260310T141500
DTEND;TZID=America/Chicago:20260310T151500
DTSTAMP:20260420T054608
CREATED:20251231T004300Z
LAST-MODIFIED:20251231T004300Z
UID:29158-1773152100-1773155700@www.cardunaldogtraining.com
SUMMARY:Scent Work Level 1
DESCRIPTION:
URL:https://www.cardunaldogtraining.com/event/scent-work-level-1-11/2026-03-10/
LOCATION:CarDunAl Dog Training Club\, 10783 Wolf Dr.\, Huntley\, IL\, 60142\, United States
CATEGORIES:Scent Work
END:VEVENT
BEGIN:VEVENT
DTSTART;TZID=America/Chicago:20260310T130000
DTEND;TZID=America/Chicago:20260310T140000
DTSTAMP:20260420T054608
CREATED:20251231T004141Z
LAST-MODIFIED:20251231T004141Z
UID:29147-1773147600-1773151200@www.cardunaldogtraining.com
SUMMARY:Scent Work Level 2
DESCRIPTION:
URL:https://www.cardunaldogtraining.com/event/scent-work-level-2-9/2026-03-10/
LOCATION:CarDunAl Dog Training Club\, 10783 Wolf Dr.\, Huntley\, IL\, 60142\, United States
CATEGORIES:Scent Work
END:VEVENT
BEGIN:VEVENT
DTSTART;TZID=America/Chicago:20260310T113000
DTEND;TZID=America/Chicago:20260310T123000
DTSTAMP:20260420T054608
CREATED:20251231T003954Z
LAST-MODIFIED:20251231T003954Z
UID:29136-1773142200-1773145800@www.cardunaldogtraining.com
SUMMARY:Scent Work Level 3
DESCRIPTION:
URL:https://www.cardunaldogtraining.com/event/scent-work-level-3-18/2026-03-10/
LOCATION:CarDunAl Dog Training Club\, 10783 Wolf Dr.\, Huntley\, IL\, 60142\, United States
CATEGORIES:Scent Work
END:VEVENT
BEGIN:VEVENT
DTSTART;TZID=America/Chicago:20260310T101500
DTEND;TZID=America/Chicago:20260310T111500
DTSTAMP:20260420T054608
CREATED:20251231T003847Z
LAST-MODIFIED:20251231T003847Z
UID:29125-1773137700-1773141300@www.cardunaldogtraining.com
SUMMARY:Scent Work Level 3
DESCRIPTION:
URL:https://www.cardunaldogtraining.com/event/scent-work-level-3-17/2026-03-10/
LOCATION:CarDunAl Dog Training Club\, 10783 Wolf Dr.\, Huntley\, IL\, 60142\, United States
CATEGORIES:Scent Work
END:VEVENT
BEGIN:VEVENT
DTSTART;TZID=America/Chicago:20260310T090000
DTEND;TZID=America/Chicago:20260310T100000
DTSTAMP:20260420T054608
CREATED:20251231T003732Z
LAST-MODIFIED:20251231T003732Z
UID:29114-1773133200-1773136800@www.cardunaldogtraining.com
SUMMARY:Scent Work Level 3
DESCRIPTION:
URL:https://www.cardunaldogtraining.com/event/scent-work-level-3-16/2026-03-10/
LOCATION:CarDunAl Dog Training Club\, 10783 Wolf Dr.\, Huntley\, IL\, 60142\, United States
CATEGORIES:Advanced,Scent Work
END:VEVENT
BEGIN:VEVENT
DTSTART;TZID=America/Chicago:20260309T200000
DTEND;TZID=America/Chicago:20260309T210000
DTSTAMP:20260420T054608
CREATED:20251231T002155Z
LAST-MODIFIED:20251231T002155Z
UID:29070-1773086400-1773090000@www.cardunaldogtraining.com
SUMMARY:Beginner Agility Level 1
DESCRIPTION:
URL:https://www.cardunaldogtraining.com/event/beginner-agility-level-1-10/2026-03-09/
LOCATION:CarDunAl Dog Training Club\, 10783 Wolf Dr.\, Huntley\, IL\, 60142\, United States
CATEGORIES:Agility
END:VEVENT
BEGIN:VEVENT
DTSTART;TZID=America/Chicago:20260309T200000
DTEND;TZID=America/Chicago:20260309T210000
DTSTAMP:20260420T054608
CREATED:20251231T002033Z
LAST-MODIFIED:20251231T002033Z
UID:29059-1773086400-1773090000@www.cardunaldogtraining.com
SUMMARY:Competition Agility Level 5
DESCRIPTION:
URL:https://www.cardunaldogtraining.com/event/competition-agility-level-5-13/2026-03-09/
LOCATION:CarDunAl Dog Training Club\, 10783 Wolf Dr.\, Huntley\, IL\, 60142\, United States
CATEGORIES:Agility
END:VEVENT
BEGIN:VEVENT
DTSTART;TZID=America/Chicago:20260309T190000
DTEND;TZID=America/Chicago:20260309T200000
DTSTAMP:20260420T054608
CREATED:20251231T001820Z
LAST-MODIFIED:20251231T001820Z
UID:29047-1773082800-1773086400@www.cardunaldogtraining.com
SUMMARY:Intermediate Agility Level 3
DESCRIPTION:
URL:https://www.cardunaldogtraining.com/event/intermediate-agility-level-3-8/2026-03-09/
LOCATION:CarDunAl Dog Training Club\, 10783 Wolf Dr.\, Huntley\, IL\, 60142\, United States
CATEGORIES:Agility
END:VEVENT
BEGIN:VEVENT
DTSTART;TZID=America/Chicago:20260309T190000
DTEND;TZID=America/Chicago:20260309T200000
DTSTAMP:20260420T054608
CREATED:20251231T001629Z
LAST-MODIFIED:20251231T001629Z
UID:29036-1773082800-1773086400@www.cardunaldogtraining.com
SUMMARY:Intermediate Agility Level 2
DESCRIPTION:
URL:https://www.cardunaldogtraining.com/event/intermediate-agility-level-2-10/2026-03-09/
LOCATION:CarDunAl Dog Training Club\, 10783 Wolf Dr.\, Huntley\, IL\, 60142\, United States
CATEGORIES:Agility
END:VEVENT
BEGIN:VEVENT
DTSTART;TZID=America/Chicago:20260309T180000
DTEND;TZID=America/Chicago:20260309T190000
DTSTAMP:20260420T054608
CREATED:20251231T001452Z
LAST-MODIFIED:20251231T001452Z
UID:29025-1773079200-1773082800@www.cardunaldogtraining.com
SUMMARY:Advanced Agility Level 4
DESCRIPTION:
URL:https://www.cardunaldogtraining.com/event/advanced-agility-level-4-20/2026-03-09/
LOCATION:CarDunAl Dog Training Club\, 10783 Wolf Dr.\, Huntley\, IL\, 60142\, United States
CATEGORIES:Agility
END:VEVENT
BEGIN:VEVENT
DTSTART;TZID=America/Chicago:20260309T180000
DTEND;TZID=America/Chicago:20260309T190000
DTSTAMP:20260420T054608
CREATED:20251231T001058Z
LAST-MODIFIED:20251231T001058Z
UID:28992-1773079200-1773082800@www.cardunaldogtraining.com
SUMMARY:Foundation Class Agility
DESCRIPTION:
URL:https://www.cardunaldogtraining.com/event/foundation-class-agility-5/2026-03-09/
LOCATION:CarDunAl Dog Training Club\, 10783 Wolf Dr.\, Huntley\, IL\, 60142\, United States
CATEGORIES:Agility
END:VEVENT
BEGIN:VEVENT
DTSTART;TZID=America/Chicago:20260309T170000
DTEND;TZID=America/Chicago:20260309T180000
DTSTAMP:20260420T054608
CREATED:20251231T001344Z
LAST-MODIFIED:20251231T001344Z
UID:29014-1773075600-1773079200@www.cardunaldogtraining.com
SUMMARY:Advanced Agility Level 4
DESCRIPTION:
URL:https://www.cardunaldogtraining.com/event/advanced-agility-level-4-19/2026-03-09/
LOCATION:CarDunAl Dog Training Club\, 10783 Wolf Dr.\, Huntley\, IL\, 60142\, United States
CATEGORIES:Agility
END:VEVENT
BEGIN:VEVENT
DTSTART;TZID=America/Chicago:20260309T090000
DTEND;TZID=America/Chicago:20260309T100000
DTSTAMP:20260420T054608
CREATED:20251231T001234Z
LAST-MODIFIED:20251231T001234Z
UID:29003-1773046800-1773050400@www.cardunaldogtraining.com
SUMMARY:Master Level 6 Agility
DESCRIPTION:
URL:https://www.cardunaldogtraining.com/event/master-level-6-agility-5/2026-03-09/
LOCATION:CarDunAl Dog Training Club\, 10783 Wolf Dr.\, Huntley\, IL\, 60142\, United States
CATEGORIES:Agility
END:VEVENT
BEGIN:VEVENT
DTSTART;VALUE=DATE:20260308
DTEND;VALUE=DATE:20260309
DTSTAMP:20260420T054608
CREATED:20251120T020841Z
LAST-MODIFIED:20251120T020841Z
UID:28485-1772928000-1773014399@www.cardunaldogtraining.com
SUMMARY:Great Lakes Belgian Tervuren Club Specialty
DESCRIPTION:
URL:https://www.cardunaldogtraining.com/event/great-lakes-belgian-tervuren-club-specialty-3/
LOCATION:CarDunAl Dog Training Club\, 10783 Wolf Dr.\, Huntley\, IL\, 60142\, United States
CATEGORIES:Trials
END:VEVENT
END:VCALENDAR