BEGIN:VCALENDAR
VERSION:2.0
PRODID:-//Car-Dun-Al Dog Obedience Training Club - ECPv6.15.17.1//NONSGML v1.0//EN
CALSCALE:GREGORIAN
METHOD:PUBLISH
X-WR-CALNAME:Car-Dun-Al Dog Obedience Training Club
X-ORIGINAL-URL:https://www.cardunaldogtraining.com
X-WR-CALDESC:Events for Car-Dun-Al Dog Obedience Training Club
REFRESH-INTERVAL;VALUE=DURATION:PT1H
X-Robots-Tag:noindex
X-PUBLISHED-TTL:PT1H
BEGIN:VTIMEZONE
TZID:America/Chicago
BEGIN:DAYLIGHT
TZOFFSETFROM:-0600
TZOFFSETTO:-0500
TZNAME:CDT
DTSTART:20240310T080000
END:DAYLIGHT
BEGIN:STANDARD
TZOFFSETFROM:-0500
TZOFFSETTO:-0600
TZNAME:CST
DTSTART:20241103T070000
END:STANDARD
BEGIN:DAYLIGHT
TZOFFSETFROM:-0600
TZOFFSETTO:-0500
TZNAME:CDT
DTSTART:20250309T080000
END:DAYLIGHT
BEGIN:STANDARD
TZOFFSETFROM:-0500
TZOFFSETTO:-0600
TZNAME:CST
DTSTART:20251102T070000
END:STANDARD
BEGIN:DAYLIGHT
TZOFFSETFROM:-0600
TZOFFSETTO:-0500
TZNAME:CDT
DTSTART:20260308T080000
END:DAYLIGHT
BEGIN:STANDARD
TZOFFSETFROM:-0500
TZOFFSETTO:-0600
TZNAME:CST
DTSTART:20261101T070000
END:STANDARD
END:VTIMEZONE
BEGIN:VEVENT
DTSTART;TZID=America/Chicago:20250129T093000
DTEND;TZID=America/Chicago:20250129T100000
DTSTAMP:20260425T142313
CREATED:20241221T022836Z
LAST-MODIFIED:20241221T022836Z
UID:25408-1738143000-1738144800@www.cardunaldogtraining.com
SUMMARY:Open/Utility Obedience – No Instructor
DESCRIPTION:
URL:https://www.cardunaldogtraining.com/event/open-utility-obedience-no-instructor-16/2025-01-29/
LOCATION:CarDunAl Dog Training Club\, 10783 Wolf Dr.\, Huntley\, IL\, 60142\, United States
CATEGORIES:Advanced
END:VEVENT
BEGIN:VEVENT
DTSTART;TZID=America/Chicago:20250129T100000
DTEND;TZID=America/Chicago:20250129T110000
DTSTAMP:20260425T142313
CREATED:20241221T021126Z
LAST-MODIFIED:20241221T021126Z
UID:25342-1738144800-1738148400@www.cardunaldogtraining.com
SUMMARY:Novice Obedience
DESCRIPTION:
URL:https://www.cardunaldogtraining.com/event/novice-obedience-22/2025-01-29/
LOCATION:CarDunAl Dog Training Club\, 10783 Wolf Dr.\, Huntley\, IL\, 60142\, United States
CATEGORIES:Advanced
END:VEVENT
BEGIN:VEVENT
DTSTART;TZID=America/Chicago:20250129T100000
DTEND;TZID=America/Chicago:20250129T110000
DTSTAMP:20260425T142313
CREATED:20241221T022227Z
LAST-MODIFIED:20241221T022227Z
UID:25375-1738144800-1738148400@www.cardunaldogtraining.com
SUMMARY:Open Obedience
DESCRIPTION:
URL:https://www.cardunaldogtraining.com/event/open-obedience-19/2025-01-29/
LOCATION:CarDunAl Dog Training Club\, 10783 Wolf Dr.\, Huntley\, IL\, 60142\, United States
CATEGORIES:Advanced
END:VEVENT
BEGIN:VEVENT
DTSTART;TZID=America/Chicago:20250129T100000
DTEND;TZID=America/Chicago:20250129T120000
DTSTAMP:20260425T142313
CREATED:20250106T192713Z
LAST-MODIFIED:20250106T192713Z
UID:25836-1738144800-1738152000@www.cardunaldogtraining.com
SUMMARY:Drop In Obedience Training
DESCRIPTION:
URL:https://www.cardunaldogtraining.com/event/drop-in-obedience-training-4/2025-01-29/
LOCATION:CarDunAl Dog Training Club\, 10783 Wolf Dr.\, Huntley\, IL\, 60142\, United States
CATEGORIES:Drop In Training
END:VEVENT
BEGIN:VEVENT
DTSTART;TZID=America/Chicago:20250129T113000
DTEND;TZID=America/Chicago:20250129T123000
DTSTAMP:20260425T142313
CREATED:20241221T023333Z
LAST-MODIFIED:20241221T023333Z
UID:25430-1738150200-1738153800@www.cardunaldogtraining.com
SUMMARY:Beginner Obedience
DESCRIPTION:
URL:https://www.cardunaldogtraining.com/event/beginner-obedience-32/2025-01-29/
LOCATION:CarDunAl Dog Training Club\, 10783 Wolf Dr.\, Huntley\, IL\, 60142\, United States
CATEGORIES:Beginners
END:VEVENT
BEGIN:VEVENT
DTSTART;TZID=America/Chicago:20250129T120000
DTEND;TZID=America/Chicago:20250129T133000
DTSTAMP:20260425T142313
CREATED:20241222T021525Z
LAST-MODIFIED:20241222T021525Z
UID:25668-1738152000-1738157400@www.cardunaldogtraining.com
SUMMARY:Drop In Rally
DESCRIPTION:
URL:https://www.cardunaldogtraining.com/event/drop-in-rally-2/2025-01-29/
LOCATION:CarDunAl Dog Training Club\, 10783 Wolf Dr.\, Huntley\, IL\, 60142\, United States
CATEGORIES:Drop In Training
END:VEVENT
BEGIN:VEVENT
DTSTART;TZID=America/Chicago:20250129T120000
DTEND;TZID=America/Chicago:20250129T140000
DTSTAMP:20260425T142313
CREATED:20250130T122453Z
LAST-MODIFIED:20250130T122453Z
UID:26076-1738152000-1738159200@www.cardunaldogtraining.com
SUMMARY:Cardunal Rally Extravaganza
DESCRIPTION:
URL:https://www.cardunaldogtraining.com/event/cardunal-rally-extravaganza/
LOCATION:CarDunAl Dog Training Club\, 10783 Wolf Dr.\, Huntley\, IL\, 60142\, United States
CATEGORIES:Events
END:VEVENT
BEGIN:VEVENT
DTSTART;TZID=America/Chicago:20250129T190000
DTEND;TZID=America/Chicago:20250129T200000
DTSTAMP:20260425T142313
CREATED:20250106T192935Z
LAST-MODIFIED:20251120T012556Z
UID:25887-1738177200-1738180800@www.cardunaldogtraining.com
SUMMARY:Drop In Conformation
DESCRIPTION:
URL:https://www.cardunaldogtraining.com/event/drop-in-conformation-2/2025-01-29/
LOCATION:CarDunAl Dog Training Club\, 10783 Wolf Dr.\, Huntley\, IL\, 60142\, United States
CATEGORIES:Conformation
END:VEVENT
BEGIN:VEVENT
DTSTART;TZID=America/Chicago:20250130T120000
DTEND;TZID=America/Chicago:20250130T130000
DTSTAMP:20260425T142313
CREATED:20241215T020208Z
LAST-MODIFIED:20241215T020641Z
UID:25011-1738238400-1738242000@www.cardunaldogtraining.com
SUMMARY:Puppy Class Obedience
DESCRIPTION:
URL:https://www.cardunaldogtraining.com/event/puppy-class-obedience-11/2025-01-30/
LOCATION:CarDunAl Dog Training Club\, 10783 Wolf Dr.\, Huntley\, IL\, 60142\, United States
CATEGORIES:AKC Star Puppy / Pre-Beginners Class
END:VEVENT
BEGIN:VEVENT
DTSTART;TZID=America/Chicago:20250130T133000
DTEND;TZID=America/Chicago:20250130T143000
DTSTAMP:20260425T142313
CREATED:20241221T023500Z
LAST-MODIFIED:20241221T023500Z
UID:25442-1738243800-1738247400@www.cardunaldogtraining.com
SUMMARY:Beginner Obedience
DESCRIPTION:
URL:https://www.cardunaldogtraining.com/event/beginner-obedience-33/2025-01-30/
LOCATION:CarDunAl Dog Training Club\, 10783 Wolf Dr.\, Huntley\, IL\, 60142\, United States
CATEGORIES:Beginners
END:VEVENT
BEGIN:VEVENT
DTSTART;TZID=America/Chicago:20250130T170000
DTEND;TZID=America/Chicago:20250130T180000
DTSTAMP:20260425T142313
CREATED:20241221T024235Z
LAST-MODIFIED:20241221T024235Z
UID:25489-1738256400-1738260000@www.cardunaldogtraining.com
SUMMARY:Utility Obedience
DESCRIPTION:
URL:https://www.cardunaldogtraining.com/event/utility-obedience-10/2025-01-30/
LOCATION:CarDunAl Dog Training Club\, 10783 Wolf Dr.\, Huntley\, IL\, 60142\, United States
CATEGORIES:Advanced
END:VEVENT
BEGIN:VEVENT
DTSTART;TZID=America/Chicago:20250130T173000
DTEND;TZID=America/Chicago:20250130T183000
DTSTAMP:20260425T142313
CREATED:20241221T023018Z
LAST-MODIFIED:20241221T023018Z
UID:25420-1738258200-1738261800@www.cardunaldogtraining.com
SUMMARY:Open/Utility Obedience – No Instructor
DESCRIPTION:
URL:https://www.cardunaldogtraining.com/event/open-utility-obedience-no-instructor-17/2025-01-30/
LOCATION:CarDunAl Dog Training Club\, 10783 Wolf Dr.\, Huntley\, IL\, 60142\, United States
CATEGORIES:Advanced
END:VEVENT
BEGIN:VEVENT
DTSTART;TZID=America/Chicago:20250130T173000
DTEND;TZID=America/Chicago:20250130T190000
DTSTAMP:20260425T142313
CREATED:20250110T025939Z
LAST-MODIFIED:20250831T174308Z
UID:25951-1738258200-1738263600@www.cardunaldogtraining.com
SUMMARY:Drop In Rally Training
DESCRIPTION:
URL:https://www.cardunaldogtraining.com/event/drop-in-rally-training-3/2025-01-30/
LOCATION:CarDunAl Dog Training Club\, 10783 Wolf Dr.\, Huntley\, IL\, 60142\, United States
CATEGORIES:Drop In Training
END:VEVENT
BEGIN:VEVENT
DTSTART;TZID=America/Chicago:20250130T180000
DTEND;TZID=America/Chicago:20250130T180000
DTSTAMP:20260425T142313
CREATED:20241221T022020Z
LAST-MODIFIED:20241221T022020Z
UID:25365-1738260000-1738260000@www.cardunaldogtraining.com
SUMMARY:Novice Obedience - Get Ready to Show
DESCRIPTION:
URL:https://www.cardunaldogtraining.com/event/novice-obedience-get-ready-to-show/2025-01-30/
LOCATION:CarDunAl Dog Training Club\, 10783 Wolf Dr.\, Huntley\, IL\, 60142\, United States
CATEGORIES:Advanced
END:VEVENT
BEGIN:VEVENT
DTSTART;TZID=America/Chicago:20250130T180000
DTEND;TZID=America/Chicago:20250130T190000
DTSTAMP:20260425T142313
CREATED:20241221T024014Z
LAST-MODIFIED:20241221T024014Z
UID:25467-1738260000-1738263600@www.cardunaldogtraining.com
SUMMARY:Pre-Utility Obedience
DESCRIPTION:
URL:https://www.cardunaldogtraining.com/event/pre-utility-obedience-4/2025-01-30/
LOCATION:CarDunAl Dog Training Club\, 10783 Wolf Dr.\, Huntley\, IL\, 60142\, United States
CATEGORIES:Advanced
END:VEVENT
BEGIN:VEVENT
DTSTART;TZID=America/Chicago:20250130T190000
DTEND;TZID=America/Chicago:20250130T200000
DTSTAMP:20260425T142313
CREATED:20241221T020835Z
LAST-MODIFIED:20241221T020835Z
UID:25332-1738263600-1738267200@www.cardunaldogtraining.com
SUMMARY:Beginner Novice Obedience
DESCRIPTION:
URL:https://www.cardunaldogtraining.com/event/beginner-novice-obedience-13/2025-01-30/
LOCATION:CarDunAl Dog Training Club\, 10783 Wolf Dr.\, Huntley\, IL\, 60142\, United States
CATEGORIES:Advanced
END:VEVENT
BEGIN:VEVENT
DTSTART;TZID=America/Chicago:20250130T190000
DTEND;TZID=America/Chicago:20250130T200000
DTSTAMP:20260425T142313
CREATED:20241221T021837Z
LAST-MODIFIED:20241221T021837Z
UID:25354-1738263600-1738267200@www.cardunaldogtraining.com
SUMMARY:Novice Obedience
DESCRIPTION:
URL:https://www.cardunaldogtraining.com/event/novice-obedience-23/2025-01-30/
LOCATION:CarDunAl Dog Training Club\, 10783 Wolf Dr.\, Huntley\, IL\, 60142\, United States
CATEGORIES:Advanced
END:VEVENT
BEGIN:VEVENT
DTSTART;TZID=America/Chicago:20250130T190000
DTEND;TZID=America/Chicago:20250130T200000
DTSTAMP:20260425T142313
CREATED:20241221T024123Z
LAST-MODIFIED:20241221T024123Z
UID:25478-1738263600-1738267200@www.cardunaldogtraining.com
SUMMARY:Utility Obedience
DESCRIPTION:
URL:https://www.cardunaldogtraining.com/event/utility-obedience-9/2025-01-30/
LOCATION:CarDunAl Dog Training Club\, 10783 Wolf Dr.\, Huntley\, IL\, 60142\, United States
CATEGORIES:Advanced
END:VEVENT
BEGIN:VEVENT
DTSTART;TZID=America/Chicago:20250130T200000
DTEND;TZID=America/Chicago:20250130T210000
DTSTAMP:20260425T142313
CREATED:20241221T022514Z
LAST-MODIFIED:20241221T022514Z
UID:25387-1738267200-1738270800@www.cardunaldogtraining.com
SUMMARY:Pre-Open Obedience
DESCRIPTION:
URL:https://www.cardunaldogtraining.com/event/pre-open-obedience-15/2025-01-30/
LOCATION:CarDunAl Dog Training Club\, 10783 Wolf Dr.\, Huntley\, IL\, 60142\, United States
CATEGORIES:Advanced
END:VEVENT
BEGIN:VEVENT
DTSTART;TZID=America/Chicago:20250130T200000
DTEND;TZID=America/Chicago:20250130T210000
DTSTAMP:20260425T142313
CREATED:20241221T022631Z
LAST-MODIFIED:20241221T022631Z
UID:25398-1738267200-1738270800@www.cardunaldogtraining.com
SUMMARY:Open Obedience
DESCRIPTION:
URL:https://www.cardunaldogtraining.com/event/open-obedience-20/2025-01-30/
LOCATION:CarDunAl Dog Training Club\, 10783 Wolf Dr.\, Huntley\, IL\, 60142\, United States
CATEGORIES:Advanced
END:VEVENT
BEGIN:VEVENT
DTSTART;TZID=America/Chicago:20250130T200000
DTEND;TZID=America/Chicago:20250130T210000
DTSTAMP:20260425T142313
CREATED:20241221T023707Z
LAST-MODIFIED:20241221T023707Z
UID:25456-1738267200-1738270800@www.cardunaldogtraining.com
SUMMARY:Beginner Obedience
DESCRIPTION:
URL:https://www.cardunaldogtraining.com/event/beginner-obedience-35/2025-01-30/
LOCATION:CarDunAl Dog Training Club\, 10783 Wolf Dr.\, Huntley\, IL\, 60142\, United States
CATEGORIES:Advanced
END:VEVENT
BEGIN:VEVENT
DTSTART;VALUE=DATE:20250201
DTEND;VALUE=DATE:20250202
DTSTAMP:20260425T142313
CREATED:20241027T212816Z
LAST-MODIFIED:20241027T215004Z
UID:24656-1738368000-1738454399@www.cardunaldogtraining.com
SUMMARY:Cardunal Obedience/Rally Trial
DESCRIPTION:
URL:https://www.cardunaldogtraining.com/event/cda-obedience-rally-trial-3/
LOCATION:CarDunAl Dog Training Club\, 10783 Wolf Dr.\, Huntley\, IL\, 60142\, United States
CATEGORIES:Trials
END:VEVENT
BEGIN:VEVENT
DTSTART;VALUE=DATE:20250202
DTEND;VALUE=DATE:20250203
DTSTAMP:20260425T142313
CREATED:20241027T212912Z
LAST-MODIFIED:20241027T214748Z
UID:24658-1738454400-1738540799@www.cardunaldogtraining.com
SUMMARY:Cardunal Obedience/Rally Trial
DESCRIPTION:
URL:https://www.cardunaldogtraining.com/event/cda-obedience-rally-trial-4/
LOCATION:CarDunAl Dog Training Club\, 10783 Wolf Dr.\, Huntley\, IL\, 60142\, United States
CATEGORIES:Trials
END:VEVENT
BEGIN:VEVENT
DTSTART;TZID=America/Chicago:20250203T090000
DTEND;TZID=America/Chicago:20250203T103000
DTSTAMP:20260425T142313
CREATED:20241221T030701Z
LAST-MODIFIED:20241221T030701Z
UID:25566-1738573200-1738578600@www.cardunaldogtraining.com
SUMMARY:Master Level 6 Agility
DESCRIPTION:
URL:https://www.cardunaldogtraining.com/event/master-level-6-agility/2025-02-03/
LOCATION:CarDunAl Dog Training Club\, 10783 Wolf Dr.\, Huntley\, IL\, 60142\, United States
CATEGORIES:Agility
END:VEVENT
BEGIN:VEVENT
DTSTART;TZID=America/Chicago:20250203T170000
DTEND;TZID=America/Chicago:20250203T180000
DTSTAMP:20260425T142313
CREATED:20241221T030818Z
LAST-MODIFIED:20241221T030818Z
UID:25577-1738602000-1738605600@www.cardunaldogtraining.com
SUMMARY:Advanced Agility Level 4
DESCRIPTION:
URL:https://www.cardunaldogtraining.com/event/advanced-agility-level-4-11/2025-02-03/
LOCATION:CarDunAl Dog Training Club\, 10783 Wolf Dr.\, Huntley\, IL\, 60142\, United States
CATEGORIES:Agility
END:VEVENT
BEGIN:VEVENT
DTSTART;TZID=America/Chicago:20250203T180000
DTEND;TZID=America/Chicago:20250203T190000
DTSTAMP:20260425T142313
CREATED:20241221T030915Z
LAST-MODIFIED:20241221T030915Z
UID:25588-1738605600-1738609200@www.cardunaldogtraining.com
SUMMARY:Advanced Agility Level 4
DESCRIPTION:
URL:https://www.cardunaldogtraining.com/event/advanced-agility-level-4-12/2025-02-03/
LOCATION:CarDunAl Dog Training Club\, 10783 Wolf Dr.\, Huntley\, IL\, 60142\, United States
CATEGORIES:Agility
END:VEVENT
BEGIN:VEVENT
DTSTART;TZID=America/Chicago:20250203T180000
DTEND;TZID=America/Chicago:20250203T190000
DTSTAMP:20260425T142313
CREATED:20241221T031045Z
LAST-MODIFIED:20241221T031045Z
UID:25599-1738605600-1738609200@www.cardunaldogtraining.com
SUMMARY:Foundation Class Agility
DESCRIPTION:
URL:https://www.cardunaldogtraining.com/event/foundation-class-agility/2025-02-03/
LOCATION:CarDunAl Dog Training Club\, 10783 Wolf Dr.\, Huntley\, IL\, 60142\, United States
CATEGORIES:Agility
END:VEVENT
BEGIN:VEVENT
DTSTART;TZID=America/Chicago:20250203T180000
DTEND;TZID=America/Chicago:20250203T190000
DTSTAMP:20260425T142313
CREATED:20241221T031231Z
LAST-MODIFIED:20241221T031231Z
UID:25610-1738605600-1738609200@www.cardunaldogtraining.com
SUMMARY:Intermediate Agility Level 2
DESCRIPTION:
URL:https://www.cardunaldogtraining.com/event/intermediate-agility-level-2-6/2025-02-03/
LOCATION:CarDunAl Dog Training Club\, 10783 Wolf Dr.\, Huntley\, IL\, 60142\, United States
CATEGORIES:Agility
END:VEVENT
BEGIN:VEVENT
DTSTART;TZID=America/Chicago:20250203T190000
DTEND;TZID=America/Chicago:20250203T200000
DTSTAMP:20260425T142313
CREATED:20241221T031355Z
LAST-MODIFIED:20241221T031355Z
UID:25621-1738609200-1738612800@www.cardunaldogtraining.com
SUMMARY:Advanced Agility Level 5
DESCRIPTION:
URL:https://www.cardunaldogtraining.com/event/advanced-agility-level-5-3/2025-02-03/
LOCATION:CarDunAl Dog Training Club\, 10783 Wolf Dr.\, Huntley\, IL\, 60142\, United States
CATEGORIES:Agility
END:VEVENT
BEGIN:VEVENT
DTSTART;TZID=America/Chicago:20250203T200000
DTEND;TZID=America/Chicago:20250203T210000
DTSTAMP:20260425T142313
CREATED:20241221T031526Z
LAST-MODIFIED:20241221T031526Z
UID:25632-1738612800-1738616400@www.cardunaldogtraining.com
SUMMARY:Beginner Agility Level 1
DESCRIPTION:
URL:https://www.cardunaldogtraining.com/event/beginner-agility-level-1-6/2025-02-03/
LOCATION:CarDunAl Dog Training Club\, 10783 Wolf Dr.\, Huntley\, IL\, 60142\, United States
CATEGORIES:Agility
END:VEVENT
END:VCALENDAR