BEGIN:VCALENDAR
VERSION:2.0
PRODID:-//Car-Dun-Al Dog Obedience Training Club - ECPv6.15.17.1//NONSGML v1.0//EN
CALSCALE:GREGORIAN
METHOD:PUBLISH
X-WR-CALNAME:Car-Dun-Al Dog Obedience Training Club
X-ORIGINAL-URL:https://www.cardunaldogtraining.com
X-WR-CALDESC:Events for Car-Dun-Al Dog Obedience Training Club
REFRESH-INTERVAL;VALUE=DURATION:PT1H
X-Robots-Tag:noindex
X-PUBLISHED-TTL:PT1H
BEGIN:VTIMEZONE
TZID:America/Chicago
BEGIN:DAYLIGHT
TZOFFSETFROM:-0600
TZOFFSETTO:-0500
TZNAME:CDT
DTSTART:20220313T080000
END:DAYLIGHT
BEGIN:STANDARD
TZOFFSETFROM:-0500
TZOFFSETTO:-0600
TZNAME:CST
DTSTART:20221106T070000
END:STANDARD
BEGIN:DAYLIGHT
TZOFFSETFROM:-0600
TZOFFSETTO:-0500
TZNAME:CDT
DTSTART:20230312T080000
END:DAYLIGHT
BEGIN:STANDARD
TZOFFSETFROM:-0500
TZOFFSETTO:-0600
TZNAME:CST
DTSTART:20231105T070000
END:STANDARD
BEGIN:DAYLIGHT
TZOFFSETFROM:-0600
TZOFFSETTO:-0500
TZNAME:CDT
DTSTART:20240310T080000
END:DAYLIGHT
BEGIN:STANDARD
TZOFFSETFROM:-0500
TZOFFSETTO:-0600
TZNAME:CST
DTSTART:20241103T070000
END:STANDARD
BEGIN:DAYLIGHT
TZOFFSETFROM:-0600
TZOFFSETTO:-0500
TZNAME:CDT
DTSTART:20250309T080000
END:DAYLIGHT
BEGIN:STANDARD
TZOFFSETFROM:-0500
TZOFFSETTO:-0600
TZNAME:CST
DTSTART:20251102T070000
END:STANDARD
END:VTIMEZONE
BEGIN:VEVENT
DTSTART;TZID=America/Chicago:20240103T113000
DTEND;TZID=America/Chicago:20240103T123000
DTSTAMP:20260421T230109
CREATED:20231121T015641Z
LAST-MODIFIED:20231121T015641Z
UID:19673-1704281400-1704285000@www.cardunaldogtraining.com
SUMMARY:Beginner Obedience
DESCRIPTION:
URL:https://www.cardunaldogtraining.com/event/beginner-obedience-17/2024-01-03/
LOCATION:CarDunAl Dog Training Club\, 10783 Wolf Dr.\, Huntley\, IL\, 60142\, United States
CATEGORIES:Beginners
END:VEVENT
BEGIN:VEVENT
DTSTART;TZID=America/Chicago:20240103T100000
DTEND;TZID=America/Chicago:20240103T110000
DTSTAMP:20260421T230109
CREATED:20231121T022215Z
LAST-MODIFIED:20231121T022215Z
UID:19783-1704276000-1704279600@www.cardunaldogtraining.com
SUMMARY:Open Obedience
DESCRIPTION:
URL:https://www.cardunaldogtraining.com/event/open-obedience-11/2024-01-03/
LOCATION:CarDunAl Dog Training Club\, 10783 Wolf Dr.\, Huntley\, IL\, 60142\, United States
CATEGORIES:Advanced
END:VEVENT
BEGIN:VEVENT
DTSTART;TZID=America/Chicago:20240103T100000
DTEND;TZID=America/Chicago:20240103T110000
DTSTAMP:20260421T230109
CREATED:20231121T021052Z
LAST-MODIFIED:20231121T021052Z
UID:19750-1704276000-1704279600@www.cardunaldogtraining.com
SUMMARY:Novice Obedience
DESCRIPTION:
URL:https://www.cardunaldogtraining.com/event/novice-obedience-15/2024-01-03/
LOCATION:CarDunAl Dog Training Club\, 10783 Wolf Dr.\, Huntley\, IL\, 60142\, United States
CATEGORIES:Advanced
END:VEVENT
BEGIN:VEVENT
DTSTART;TZID=America/Chicago:20240103T090000
DTEND;TZID=America/Chicago:20240103T100000
DTSTAMP:20260421T230109
CREATED:20231121T023533Z
LAST-MODIFIED:20231121T023609Z
UID:19827-1704272400-1704276000@www.cardunaldogtraining.com
SUMMARY:Open/Utility Obedience - No Instructor
DESCRIPTION:
URL:https://www.cardunaldogtraining.com/event/open-utility-no-instructor-4/2024-01-03/
LOCATION:CarDunAl Dog Training Club\, 10783 Wolf Dr.\, Huntley\, IL\, 60142\, United States
CATEGORIES:Advanced
END:VEVENT
BEGIN:VEVENT
DTSTART;VALUE=DATE:20231210
DTEND;VALUE=DATE:20231211
DTSTAMP:20260421T230109
CREATED:20230930T003039Z
LAST-MODIFIED:20230930T003039Z
UID:19163-1702166400-1702252799@www.cardunaldogtraining.com
SUMMARY:Cardunal Scent Work Trial
DESCRIPTION:
URL:https://www.cardunaldogtraining.com/event/cardunal-scent-work-trial-2/
LOCATION:CarDunAl Dog Training Club\, 10783 Wolf Dr.\, Huntley\, IL\, 60142\, United States
CATEGORIES:Trials
END:VEVENT
BEGIN:VEVENT
DTSTART;VALUE=DATE:20231209
DTEND;VALUE=DATE:20231210
DTSTAMP:20260421T230109
CREATED:20230930T002949Z
LAST-MODIFIED:20230930T002949Z
UID:19161-1702080000-1702166399@www.cardunaldogtraining.com
SUMMARY:Cardunal Scent Work Trial
DESCRIPTION:
URL:https://www.cardunaldogtraining.com/event/cardunal-scent-work-trial/
LOCATION:CarDunAl Dog Training Club\, 10783 Wolf Dr.\, Huntley\, IL\, 60142\, United States
CATEGORIES:Trials
END:VEVENT
BEGIN:VEVENT
DTSTART;TZID=America/Chicago:20231130T173000
DTEND;TZID=America/Chicago:20231130T190000
DTSTAMP:20260421T230109
CREATED:20231123T003905Z
LAST-MODIFIED:20240906T232054Z
UID:20113-1701365400-1701370800@www.cardunaldogtraining.com
SUMMARY:Drop In Rally Training
DESCRIPTION:
URL:https://www.cardunaldogtraining.com/event/drop-in-rally-training-2/2023-11-30/
LOCATION:CarDunAl Dog Training Club\, 10783 Wolf Dr.\, Huntley\, IL\, 60142\, United States
END:VEVENT
BEGIN:VEVENT
DTSTART;TZID=America/Chicago:20231129T100000
DTEND;TZID=America/Chicago:20231129T120000
DTSTAMP:20260421T230109
CREATED:20231123T003335Z
LAST-MODIFIED:20240910T210652Z
UID:20059-1701252000-1701259200@www.cardunaldogtraining.com
SUMMARY:Drop In Obedience Training
DESCRIPTION:
URL:https://www.cardunaldogtraining.com/event/drop-in-obedience-training-3/2023-11-29/
LOCATION:CarDunAl Dog Training Club\, 10783 Wolf Dr.\, Huntley\, IL\, 60142\, United States
CATEGORIES:Drop In Training
END:VEVENT
BEGIN:VEVENT
DTSTART;VALUE=DATE:20231125
DTEND;VALUE=DATE:20231126
DTSTAMP:20260421T230109
CREATED:20231107T010020Z
LAST-MODIFIED:20231107T010020Z
UID:19581-1700870400-1700956799@www.cardunaldogtraining.com
SUMMARY:Cardunal Agility Run Thru
DESCRIPTION:CARDUNAL’S \nSATURDAY \nAGILITY RUN THRU \nNovember 25\, 2023 \nDoors open at 8:30 AM – First Run 9:00 AM \nRunning order:  Small (4 – 16)      2 Run limit. \nAll “Small” will run before starting “Tall”. \nTall (20 – 24)     2 Run limit. \nTall dog walk will start at 10:30 AM or after the completion of Small. \nNo Entries accepted after 11:00 AM \nTwo nested courses – Masters and Novice (12 Weaves) \nHandlers are welcome to run a course or work on specific exercises within 2 minutes\, gate to gate\, time limit. \nNon-members Fees:  $5.00 for first entry\, $4.00 for second entry of same dog. \nMember Fees: $4.00 for first entry\, $3.00 for second entry of same dog. \nFace coverings are now optional in the building. Please continue to   \nSocial distance inside and outside the building. \nCrating will be available in the building in designated areas. \nInfo:  Kathy Calhoon 847-977-0388 email: BCDOC1978@gmail.com \nCar-Dun-Al Obedience Dog Training Club \n100783 Wolf Drive\, Huntley IL
URL:https://www.cardunaldogtraining.com/event/cardunal-agility-run-thru-5/
LOCATION:CarDunAl Dog Training Club\, 10783 Wolf Dr.\, Huntley\, IL\, 60142\, United States
CATEGORIES:Events
END:VEVENT
BEGIN:VEVENT
DTSTART;VALUE=DATE:20231112
DTEND;VALUE=DATE:20231113
DTSTAMP:20260421T230109
CREATED:20230930T002326Z
LAST-MODIFIED:20230930T002326Z
UID:19159-1699747200-1699833599@www.cardunaldogtraining.com
SUMMARY:CarDunAl Obedience Trial
DESCRIPTION:
URL:https://www.cardunaldogtraining.com/event/cardunal-obedience-trial-2/
LOCATION:CarDunAl Dog Training Club\, 10783 Wolf Dr.\, Huntley\, IL\, 60142\, United States
CATEGORIES:Trials
END:VEVENT
BEGIN:VEVENT
DTSTART;VALUE=DATE:20231111
DTEND;VALUE=DATE:20231112
DTSTAMP:20260421T230109
CREATED:20230930T002244Z
LAST-MODIFIED:20230930T002244Z
UID:19157-1699660800-1699747199@www.cardunaldogtraining.com
SUMMARY:CarDunAl Obedience Trial
DESCRIPTION:
URL:https://www.cardunaldogtraining.com/event/cardunal-obedience-trial/
LOCATION:CarDunAl Dog Training Club\, 10783 Wolf Dr.\, Huntley\, IL\, 60142\, United States
CATEGORIES:Trials
END:VEVENT
BEGIN:VEVENT
DTSTART;VALUE=DATE:20231110
DTEND;VALUE=DATE:20231111
DTSTAMP:20260421T230109
CREATED:20230930T002029Z
LAST-MODIFIED:20230930T002029Z
UID:19155-1699574400-1699660799@www.cardunaldogtraining.com
SUMMARY:CarDunAl Rally Trial
DESCRIPTION:
URL:https://www.cardunaldogtraining.com/event/cardunal-rally-trial/
LOCATION:CarDunAl Dog Training Club\, 10783 Wolf Dr.\, Huntley\, IL\, 60142\, United States
CATEGORIES:Trials
END:VEVENT
BEGIN:VEVENT
DTSTART;TZID=America/Chicago:20231107T190000
DTEND;TZID=America/Chicago:20231107T203000
DTSTAMP:20260421T230109
CREATED:20230207T215159Z
LAST-MODIFIED:20230207T215159Z
UID:16445-1699383600-1699389000@www.cardunaldogtraining.com
SUMMARY:Obedience Correction Clinic
DESCRIPTION:
URL:https://www.cardunaldogtraining.com/event/obedience-correction-clinic-4/
LOCATION:CarDunAl Dog Training Club\, 10783 Wolf Dr.\, Huntley\, IL\, 60142\, United States
CATEGORIES:Correction Clinic
END:VEVENT
BEGIN:VEVENT
DTSTART;VALUE=DATE:20231028
DTEND;VALUE=DATE:20231029
DTSTAMP:20260421T230109
CREATED:20230921T133943Z
LAST-MODIFIED:20230921T134618Z
UID:19046-1698451200-1698537599@www.cardunaldogtraining.com
SUMMARY:Cardunal Agility Run Thru
DESCRIPTION:CARDUNAL October 28\, 2023 Agility Run Thru
URL:https://www.cardunaldogtraining.com/event/cardunal-agility-run-thru-4/
LOCATION:CarDunAl Dog Training Club\, 10783 Wolf Dr.\, Huntley\, IL\, 60142\, United States
CATEGORIES:Events
END:VEVENT
BEGIN:VEVENT
DTSTART;VALUE=DATE:20231022
DTEND;VALUE=DATE:20231023
DTSTAMP:20260421T230109
CREATED:20221020T003200Z
LAST-MODIFIED:20221020T003200Z
UID:15458-1697932800-1698019199@www.cardunaldogtraining.com
SUMMARY:Car Dun Al Agility Trial
DESCRIPTION:
URL:https://www.cardunaldogtraining.com/event/car-dun-al-agility-trial-5/
LOCATION:CarDunAl Dog Training Club\, 10783 Wolf Dr.\, Huntley\, IL\, 60142\, United States
CATEGORIES:Trials
END:VEVENT
BEGIN:VEVENT
DTSTART;VALUE=DATE:20231021
DTEND;VALUE=DATE:20231022
DTSTAMP:20260421T230109
CREATED:20221020T003116Z
LAST-MODIFIED:20221020T003116Z
UID:15456-1697846400-1697932799@www.cardunaldogtraining.com
SUMMARY:Car Dun Al Agility Trial
DESCRIPTION:
URL:https://www.cardunaldogtraining.com/event/car-dun-al-agility-trial-4/
LOCATION:CarDunAl Dog Training Club\, 10783 Wolf Dr.\, Huntley\, IL\, 60142\, United States
CATEGORIES:Trials
END:VEVENT
BEGIN:VEVENT
DTSTART;VALUE=DATE:20231020
DTEND;VALUE=DATE:20231021
DTSTAMP:20260421T230109
CREATED:20221020T002956Z
LAST-MODIFIED:20221020T002956Z
UID:15454-1697760000-1697846399@www.cardunaldogtraining.com
SUMMARY:Keeshond Agility Trial
DESCRIPTION:
URL:https://www.cardunaldogtraining.com/event/keeshond-agility-trial/
LOCATION:CarDunAl Dog Training Club\, 10783 Wolf Dr.\, Huntley\, IL\, 60142\, United States
CATEGORIES:Trials
END:VEVENT
BEGIN:VEVENT
DTSTART;VALUE=DATE:20231015
DTEND;VALUE=DATE:20231016
DTSTAMP:20260421T230109
CREATED:20221020T002654Z
LAST-MODIFIED:20221020T002654Z
UID:15452-1697328000-1697328000@www.cardunaldogtraining.com
SUMMARY:Husky Speciality
DESCRIPTION:
URL:https://www.cardunaldogtraining.com/event/husky-speciality-4/
LOCATION:CarDunAl Dog Training Club\, 10783 Wolf Dr.\, Huntley\, IL\, 60142\, United States
CATEGORIES:Trials
END:VEVENT
BEGIN:VEVENT
DTSTART;VALUE=DATE:20231014
DTEND;VALUE=DATE:20231015
DTSTAMP:20260421T230109
CREATED:20221020T002555Z
LAST-MODIFIED:20221020T002555Z
UID:15450-1697241600-1697241600@www.cardunaldogtraining.com
SUMMARY:Husky Speciality
DESCRIPTION:
URL:https://www.cardunaldogtraining.com/event/husky-speciality-3/
LOCATION:CarDunAl Dog Training Club\, 10783 Wolf Dr.\, Huntley\, IL\, 60142\, United States
CATEGORIES:Trials
END:VEVENT
BEGIN:VEVENT
DTSTART;TZID=America/Chicago:20231012T190000
DTEND;TZID=America/Chicago:20231012T210000
DTSTAMP:20260421T230109
CREATED:20221020T002446Z
LAST-MODIFIED:20230818T010927Z
UID:15448-1697137200-1697144400@www.cardunaldogtraining.com
SUMMARY:Car Dun Al General Meeting
DESCRIPTION:
URL:https://www.cardunaldogtraining.com/event/car-dun-al-general-meeting-5/
LOCATION:CarDunAl Dog Training Club\, 10783 Wolf Dr.\, Huntley\, IL\, 60142\, United States
CATEGORIES:Meeting
END:VEVENT
BEGIN:VEVENT
DTSTART;TZID=America/Chicago:20231009T190000
DTEND;TZID=America/Chicago:20231009T210000
DTSTAMP:20260421T230109
CREATED:20221020T002352Z
LAST-MODIFIED:20221020T002352Z
UID:15446-1696878000-1696885200@www.cardunaldogtraining.com
SUMMARY:Car Dun Al Board Meeting
DESCRIPTION:
URL:https://www.cardunaldogtraining.com/event/car-dun-al-board-meeting-5/
LOCATION:CarDunAl Dog Training Club\, 10783 Wolf Dr.\, Huntley\, IL\, 60142\, United States
CATEGORIES:Meeting
END:VEVENT
BEGIN:VEVENT
DTSTART;VALUE=DATE:20231008
DTEND;VALUE=DATE:20231009
DTSTAMP:20260421T230109
CREATED:20221022T000956Z
LAST-MODIFIED:20221022T000956Z
UID:15503-1696723200-1696809599@www.cardunaldogtraining.com
SUMMARY:Keeshond Speciality
DESCRIPTION:
URL:https://www.cardunaldogtraining.com/event/keeshond-speciality-4/
LOCATION:CarDunAl Dog Training Club\, 10783 Wolf Dr.\, Huntley\, IL\, 60142\, United States
CATEGORIES:Trials
END:VEVENT
BEGIN:VEVENT
DTSTART;VALUE=DATE:20231007
DTEND;VALUE=DATE:20231008
DTSTAMP:20260421T230109
CREATED:20221022T000904Z
LAST-MODIFIED:20221022T000904Z
UID:15501-1696636800-1696723199@www.cardunaldogtraining.com
SUMMARY:Keeshond Speciality
DESCRIPTION:
URL:https://www.cardunaldogtraining.com/event/keeshond-speciality-3/
LOCATION:CarDunAl Dog Training Club\, 10783 Wolf Dr.\, Huntley\, IL\, 60142\, United States
CATEGORIES:Trials
END:VEVENT
BEGIN:VEVENT
DTSTART;TZID=America/Chicago:20231005T173000
DTEND;TZID=America/Chicago:20231005T190000
DTSTAMP:20260421T230109
CREATED:20230929T010041Z
LAST-MODIFIED:20231120T003248Z
UID:19101-1696527000-1696532400@www.cardunaldogtraining.com
SUMMARY:AKC Rally Drop-In Training
DESCRIPTION:
URL:https://www.cardunaldogtraining.com/event/akc-rally-drop-in-training-2/2023-10-05/
LOCATION:CarDunAl Dog Training Club\, 10783 Wolf Dr.\, Huntley\, IL\, 60142\, United States
CATEGORIES:Drop In Training
END:VEVENT
BEGIN:VEVENT
DTSTART;TZID=America/Chicago:20231004T190000
DTEND;TZID=America/Chicago:20231004T200000
DTSTAMP:20260421T230109
CREATED:20230929T010209Z
LAST-MODIFIED:20230929T010209Z
UID:19114-1696446000-1696449600@www.cardunaldogtraining.com
SUMMARY:Conformation Drop-In Training
DESCRIPTION:
URL:https://www.cardunaldogtraining.com/event/conformation-drop-in-training/2023-10-04/
LOCATION:CarDunAl Dog Training Club\, 10783 Wolf Dr.\, Huntley\, IL\, 60142\, United States
CATEGORIES:Drop In Training
END:VEVENT
BEGIN:VEVENT
DTSTART;TZID=America/Chicago:20231004T100000
DTEND;TZID=America/Chicago:20231004T120000
DTSTAMP:20260421T230109
CREATED:20230929T005858Z
LAST-MODIFIED:20230929T005858Z
UID:19088-1696413600-1696420800@www.cardunaldogtraining.com
SUMMARY:Obedience Drop-In Training
DESCRIPTION:
URL:https://www.cardunaldogtraining.com/event/obedience-drop-in-training-2/2023-10-04/
LOCATION:CarDunAl Dog Training Club\, 10783 Wolf Dr.\, Huntley\, IL\, 60142\, United States
CATEGORIES:Drop In Training
END:VEVENT
BEGIN:VEVENT
DTSTART;VALUE=DATE:20231001
DTEND;VALUE=DATE:20231002
DTSTAMP:20260421T230109
CREATED:20230821T005454Z
LAST-MODIFIED:20230921T135739Z
UID:18644-1696118400-1696204799@www.cardunaldogtraining.com
SUMMARY:Scent Work Sniff & Go Scent
DESCRIPTION:Sniff & Go announcement
URL:https://www.cardunaldogtraining.com/event/scent-work-sniff-go-scent/
LOCATION:CarDunAl Dog Training Club\, 10783 Wolf Dr.\, Huntley\, IL\, 60142\, United States
CATEGORIES:Scent Work
END:VEVENT
BEGIN:VEVENT
DTSTART;VALUE=DATE:20230924
DTEND;VALUE=DATE:20230925
DTSTAMP:20260421T230109
CREATED:20221020T000701Z
LAST-MODIFIED:20221020T000701Z
UID:15444-1695513600-1695599999@www.cardunaldogtraining.com
SUMMARY:Agility Ability Agility Trial
DESCRIPTION:
URL:https://www.cardunaldogtraining.com/event/agility-ability-agility-trial-4/
LOCATION:CarDunAl Dog Training Club\, 10783 Wolf Dr.\, Huntley\, IL\, 60142\, United States
CATEGORIES:Trials
END:VEVENT
BEGIN:VEVENT
DTSTART;VALUE=DATE:20230923
DTEND;VALUE=DATE:20230924
DTSTAMP:20260421T230109
CREATED:20221020T000625Z
LAST-MODIFIED:20221020T000625Z
UID:15441-1695427200-1695513599@www.cardunaldogtraining.com
SUMMARY:Agility Ability Agility Trial
DESCRIPTION:
URL:https://www.cardunaldogtraining.com/event/agility-ability-agility-trial-3/
LOCATION:CarDunAl Dog Training Club\, 10783 Wolf Dr.\, Huntley\, IL\, 60142\, United States
CATEGORIES:Trials
END:VEVENT
BEGIN:VEVENT
DTSTART;VALUE=DATE:20230922
DTEND;VALUE=DATE:20230923
DTSTAMP:20260421T230109
CREATED:20221020T000532Z
LAST-MODIFIED:20221020T000532Z
UID:15439-1695340800-1695427199@www.cardunaldogtraining.com
SUMMARY:Mat Cleaning
DESCRIPTION:
URL:https://www.cardunaldogtraining.com/event/mat-cleaning-11/
LOCATION:CarDunAl Dog Training Club\, 10783 Wolf Dr.\, Huntley\, IL\, 60142\, United States
CATEGORIES:Events
END:VEVENT
END:VCALENDAR