BEGIN:VCALENDAR
VERSION:2.0
PRODID:-//Car-Dun-Al Dog Obedience Training Club - ECPv6.15.17.1//NONSGML v1.0//EN
CALSCALE:GREGORIAN
METHOD:PUBLISH
X-WR-CALNAME:Car-Dun-Al Dog Obedience Training Club
X-ORIGINAL-URL:https://www.cardunaldogtraining.com
X-WR-CALDESC:Events for Car-Dun-Al Dog Obedience Training Club
REFRESH-INTERVAL;VALUE=DURATION:PT1H
X-Robots-Tag:noindex
X-PUBLISHED-TTL:PT1H
BEGIN:VTIMEZONE
TZID:America/Chicago
BEGIN:DAYLIGHT
TZOFFSETFROM:-0600
TZOFFSETTO:-0500
TZNAME:CDT
DTSTART:20250309T080000
END:DAYLIGHT
BEGIN:STANDARD
TZOFFSETFROM:-0500
TZOFFSETTO:-0600
TZNAME:CST
DTSTART:20251102T070000
END:STANDARD
BEGIN:DAYLIGHT
TZOFFSETFROM:-0600
TZOFFSETTO:-0500
TZNAME:CDT
DTSTART:20260308T080000
END:DAYLIGHT
BEGIN:STANDARD
TZOFFSETFROM:-0500
TZOFFSETTO:-0600
TZNAME:CST
DTSTART:20261101T070000
END:STANDARD
BEGIN:DAYLIGHT
TZOFFSETFROM:-0600
TZOFFSETTO:-0500
TZNAME:CDT
DTSTART:20270314T080000
END:DAYLIGHT
BEGIN:STANDARD
TZOFFSETFROM:-0500
TZOFFSETTO:-0600
TZNAME:CST
DTSTART:20271107T070000
END:STANDARD
END:VTIMEZONE
BEGIN:VEVENT
DTSTART;VALUE=DATE:20260912
DTEND;VALUE=DATE:20260913
DTSTAMP:20260420T112008
CREATED:20251220T021245Z
LAST-MODIFIED:20251220T021245Z
UID:28622-1789171200-1789257599@www.cardunaldogtraining.com
SUMMARY:Fox Valley Dog Training Club Agility Trial
DESCRIPTION:
URL:https://www.cardunaldogtraining.com/event/fox-valley-dog-training-club-agility-trial-6/2026-09-12/
LOCATION:CarDunAl Dog Training Club\, 10783 Wolf Dr.\, Huntley\, IL\, 60142\, United States
CATEGORIES:Trials
END:VEVENT
BEGIN:VEVENT
DTSTART;VALUE=DATE:20260913
DTEND;VALUE=DATE:20260914
DTSTAMP:20260420T112008
CREATED:20251220T021245Z
LAST-MODIFIED:20251220T021245Z
UID:28623-1789257600-1789343999@www.cardunaldogtraining.com
SUMMARY:Fox Valley Dog Training Club Agility Trial
DESCRIPTION:
URL:https://www.cardunaldogtraining.com/event/fox-valley-dog-training-club-agility-trial-6/2026-09-13/
LOCATION:CarDunAl Dog Training Club\, 10783 Wolf Dr.\, Huntley\, IL\, 60142\, United States
CATEGORIES:Trials
END:VEVENT
BEGIN:VEVENT
DTSTART;TZID=America/Chicago:20260916T100000
DTEND;TZID=America/Chicago:20260916T120000
DTSTAMP:20260420T112008
CREATED:20251231T012521Z
LAST-MODIFIED:20251231T012521Z
UID:29360-1789552800-1789560000@www.cardunaldogtraining.com
SUMMARY:Obedience Drop-In Training
DESCRIPTION:
URL:https://www.cardunaldogtraining.com/event/obedience-drop-in-training-3/2026-09-16/
LOCATION:CarDunAl Dog Training Club\, 10783 Wolf Dr.\, Huntley\, IL\, 60142\, United States
CATEGORIES:Drop In Training
END:VEVENT
BEGIN:VEVENT
DTSTART;TZID=America/Chicago:20260916T120000
DTEND;TZID=America/Chicago:20260916T133000
DTSTAMP:20260420T112008
CREATED:20251231T010632Z
LAST-MODIFIED:20260101T023831Z
UID:29190-1789560000-1789565400@www.cardunaldogtraining.com
SUMMARY:Rally Drop-In
DESCRIPTION:
URL:https://www.cardunaldogtraining.com/event/rally-drop-in-class-2/2026-09-16/
LOCATION:CarDunAl Dog Training Club\, 10783 Wolf Dr.\, Huntley\, IL\, 60142\, United States
CATEGORIES:Drop In Training
END:VEVENT
BEGIN:VEVENT
DTSTART;TZID=America/Chicago:20260916T180000
DTEND;TZID=America/Chicago:20260916T184500
DTSTAMP:20260420T112008
CREATED:20251231T012028Z
LAST-MODIFIED:20251231T012028Z
UID:29260-1789581600-1789584300@www.cardunaldogtraining.com
SUMMARY:Novice Conformation Handling Class Drop-In Training
DESCRIPTION:
URL:https://www.cardunaldogtraining.com/event/novice-conformation-handling-class-drop-in-training/2026-09-16/
LOCATION:CarDunAl Dog Training Club\, 10783 Wolf Dr.\, Huntley\, IL\, 60142\, United States
END:VEVENT
BEGIN:VEVENT
DTSTART;TZID=America/Chicago:20260916T190000
DTEND;TZID=America/Chicago:20260916T200000
DTSTAMP:20260420T112008
CREATED:20251231T012254Z
LAST-MODIFIED:20251231T012254Z
UID:29310-1789585200-1789588800@www.cardunaldogtraining.com
SUMMARY:Conformation Drop-In Training
DESCRIPTION:
URL:https://www.cardunaldogtraining.com/event/conformation-drop-in-training-2/2026-09-16/
LOCATION:CarDunAl Dog Training Club\, 10783 Wolf Dr.\, Huntley\, IL\, 60142\, United States
CATEGORIES:Drop In Training
END:VEVENT
BEGIN:VEVENT
DTSTART;VALUE=DATE:20260918
DTEND;VALUE=DATE:20260919
DTSTAMP:20260420T112008
CREATED:20251220T021355Z
LAST-MODIFIED:20251220T021355Z
UID:28625-1789689600-1789775999@www.cardunaldogtraining.com
SUMMARY:Keeshond Agility Trial
DESCRIPTION:
URL:https://www.cardunaldogtraining.com/event/keeshond-agility-trial-5/
LOCATION:CarDunAl Dog Training Club\, 10783 Wolf Dr.\, Huntley\, IL\, 60142\, United States
CATEGORIES:Trials
END:VEVENT
BEGIN:VEVENT
DTSTART;VALUE=DATE:20260919
DTEND;VALUE=DATE:20260920
DTSTAMP:20260420T112008
CREATED:20251220T021502Z
LAST-MODIFIED:20251220T021502Z
UID:28627-1789776000-1789862399@www.cardunaldogtraining.com
SUMMARY:Agility Ability Agility Trial
DESCRIPTION:
URL:https://www.cardunaldogtraining.com/event/agility-ability-agility-trial-10/2026-09-19/
LOCATION:CarDunAl Dog Training Club\, 10783 Wolf Dr.\, Huntley\, IL\, 60142\, United States
CATEGORIES:Trials
END:VEVENT
BEGIN:VEVENT
DTSTART;VALUE=DATE:20260920
DTEND;VALUE=DATE:20260921
DTSTAMP:20260420T112008
CREATED:20251220T021502Z
LAST-MODIFIED:20251220T021502Z
UID:28628-1789862400-1789948799@www.cardunaldogtraining.com
SUMMARY:Agility Ability Agility Trial
DESCRIPTION:
URL:https://www.cardunaldogtraining.com/event/agility-ability-agility-trial-10/2026-09-20/
LOCATION:CarDunAl Dog Training Club\, 10783 Wolf Dr.\, Huntley\, IL\, 60142\, United States
CATEGORIES:Trials
END:VEVENT
BEGIN:VEVENT
DTSTART;TZID=America/Chicago:20260923T100000
DTEND;TZID=America/Chicago:20260923T120000
DTSTAMP:20260420T112008
CREATED:20251231T012521Z
LAST-MODIFIED:20251231T012521Z
UID:29361-1790157600-1790164800@www.cardunaldogtraining.com
SUMMARY:Obedience Drop-In Training
DESCRIPTION:
URL:https://www.cardunaldogtraining.com/event/obedience-drop-in-training-3/2026-09-23/
LOCATION:CarDunAl Dog Training Club\, 10783 Wolf Dr.\, Huntley\, IL\, 60142\, United States
CATEGORIES:Drop In Training
END:VEVENT
BEGIN:VEVENT
DTSTART;TZID=America/Chicago:20260923T120000
DTEND;TZID=America/Chicago:20260923T133000
DTSTAMP:20260420T112008
CREATED:20251231T010632Z
LAST-MODIFIED:20260101T023831Z
UID:29191-1790164800-1790170200@www.cardunaldogtraining.com
SUMMARY:Rally Drop-In
DESCRIPTION:
URL:https://www.cardunaldogtraining.com/event/rally-drop-in-class-2/2026-09-23/
LOCATION:CarDunAl Dog Training Club\, 10783 Wolf Dr.\, Huntley\, IL\, 60142\, United States
CATEGORIES:Drop In Training
END:VEVENT
BEGIN:VEVENT
DTSTART;TZID=America/Chicago:20260923T180000
DTEND;TZID=America/Chicago:20260923T184500
DTSTAMP:20260420T112008
CREATED:20251231T012028Z
LAST-MODIFIED:20251231T012028Z
UID:29261-1790186400-1790189100@www.cardunaldogtraining.com
SUMMARY:Novice Conformation Handling Class Drop-In Training
DESCRIPTION:
URL:https://www.cardunaldogtraining.com/event/novice-conformation-handling-class-drop-in-training/2026-09-23/
LOCATION:CarDunAl Dog Training Club\, 10783 Wolf Dr.\, Huntley\, IL\, 60142\, United States
END:VEVENT
BEGIN:VEVENT
DTSTART;TZID=America/Chicago:20260923T190000
DTEND;TZID=America/Chicago:20260923T200000
DTSTAMP:20260420T112008
CREATED:20251231T012254Z
LAST-MODIFIED:20251231T012254Z
UID:29311-1790190000-1790193600@www.cardunaldogtraining.com
SUMMARY:Conformation Drop-In Training
DESCRIPTION:
URL:https://www.cardunaldogtraining.com/event/conformation-drop-in-training-2/2026-09-23/
LOCATION:CarDunAl Dog Training Club\, 10783 Wolf Dr.\, Huntley\, IL\, 60142\, United States
CATEGORIES:Drop In Training
END:VEVENT
BEGIN:VEVENT
DTSTART;VALUE=DATE:20260926
DTEND;VALUE=DATE:20260927
DTSTAMP:20260420T112008
CREATED:20260119T224432Z
LAST-MODIFIED:20260119T224432Z
UID:29470-1790380800-1790467199@www.cardunaldogtraining.com
SUMMARY:ACT (Agility Course Test) Test
DESCRIPTION:
URL:https://www.cardunaldogtraining.com/event/act-agility-course-test-test/
LOCATION:CarDunAl Dog Training Club\, 10783 Wolf Dr.\, Huntley\, IL\, 60142\, United States
CATEGORIES:Events
END:VEVENT
BEGIN:VEVENT
DTSTART;TZID=America/Chicago:20260930T100000
DTEND;TZID=America/Chicago:20260930T120000
DTSTAMP:20260420T112008
CREATED:20251231T012521Z
LAST-MODIFIED:20251231T012521Z
UID:29362-1790762400-1790769600@www.cardunaldogtraining.com
SUMMARY:Obedience Drop-In Training
DESCRIPTION:
URL:https://www.cardunaldogtraining.com/event/obedience-drop-in-training-3/2026-09-30/
LOCATION:CarDunAl Dog Training Club\, 10783 Wolf Dr.\, Huntley\, IL\, 60142\, United States
CATEGORIES:Drop In Training
END:VEVENT
BEGIN:VEVENT
DTSTART;TZID=America/Chicago:20260930T120000
DTEND;TZID=America/Chicago:20260930T133000
DTSTAMP:20260420T112008
CREATED:20251231T010632Z
LAST-MODIFIED:20260101T023831Z
UID:29192-1790769600-1790775000@www.cardunaldogtraining.com
SUMMARY:Rally Drop-In
DESCRIPTION:
URL:https://www.cardunaldogtraining.com/event/rally-drop-in-class-2/2026-09-30/
LOCATION:CarDunAl Dog Training Club\, 10783 Wolf Dr.\, Huntley\, IL\, 60142\, United States
CATEGORIES:Drop In Training
END:VEVENT
BEGIN:VEVENT
DTSTART;TZID=America/Chicago:20260930T180000
DTEND;TZID=America/Chicago:20260930T184500
DTSTAMP:20260420T112008
CREATED:20251231T012028Z
LAST-MODIFIED:20251231T012028Z
UID:29262-1790791200-1790793900@www.cardunaldogtraining.com
SUMMARY:Novice Conformation Handling Class Drop-In Training
DESCRIPTION:
URL:https://www.cardunaldogtraining.com/event/novice-conformation-handling-class-drop-in-training/2026-09-30/
LOCATION:CarDunAl Dog Training Club\, 10783 Wolf Dr.\, Huntley\, IL\, 60142\, United States
END:VEVENT
BEGIN:VEVENT
DTSTART;TZID=America/Chicago:20260930T190000
DTEND;TZID=America/Chicago:20260930T200000
DTSTAMP:20260420T112008
CREATED:20251231T012254Z
LAST-MODIFIED:20251231T012254Z
UID:29312-1790794800-1790798400@www.cardunaldogtraining.com
SUMMARY:Conformation Drop-In Training
DESCRIPTION:
URL:https://www.cardunaldogtraining.com/event/conformation-drop-in-training-2/2026-09-30/
LOCATION:CarDunAl Dog Training Club\, 10783 Wolf Dr.\, Huntley\, IL\, 60142\, United States
CATEGORIES:Drop In Training
END:VEVENT
BEGIN:VEVENT
DTSTART;VALUE=DATE:20261003
DTEND;VALUE=DATE:20261004
DTSTAMP:20260420T112008
CREATED:20251220T022108Z
LAST-MODIFIED:20251220T022108Z
UID:28630-1790985600-1791071999@www.cardunaldogtraining.com
SUMMARY:Keeshond Specialty
DESCRIPTION:
URL:https://www.cardunaldogtraining.com/event/keeshond-specialty-5/2026-10-03/
LOCATION:CarDunAl Dog Training Club\, 10783 Wolf Dr.\, Huntley\, IL\, 60142\, United States
CATEGORIES:Events
END:VEVENT
BEGIN:VEVENT
DTSTART;VALUE=DATE:20261004
DTEND;VALUE=DATE:20261005
DTSTAMP:20260420T112008
CREATED:20251220T022108Z
LAST-MODIFIED:20251220T022108Z
UID:28631-1791072000-1791158399@www.cardunaldogtraining.com
SUMMARY:Keeshond Specialty
DESCRIPTION:
URL:https://www.cardunaldogtraining.com/event/keeshond-specialty-5/2026-10-04/
LOCATION:CarDunAl Dog Training Club\, 10783 Wolf Dr.\, Huntley\, IL\, 60142\, United States
CATEGORIES:Events
END:VEVENT
BEGIN:VEVENT
DTSTART;TZID=America/Chicago:20261005T190000
DTEND;TZID=America/Chicago:20261005T210000
DTSTAMP:20260420T112008
CREATED:20251220T022301Z
LAST-MODIFIED:20251220T022301Z
UID:28633-1791226800-1791234000@www.cardunaldogtraining.com
SUMMARY:Board Meeting
DESCRIPTION:
URL:https://www.cardunaldogtraining.com/event/board-meeting-17/
LOCATION:CarDunAl Dog Training Club\, 10783 Wolf Dr.\, Huntley\, IL\, 60142\, United States
CATEGORIES:Meeting
END:VEVENT
BEGIN:VEVENT
DTSTART;TZID=America/Chicago:20261007T100000
DTEND;TZID=America/Chicago:20261007T120000
DTSTAMP:20260420T112008
CREATED:20251231T012521Z
LAST-MODIFIED:20251231T012521Z
UID:29363-1791367200-1791374400@www.cardunaldogtraining.com
SUMMARY:Obedience Drop-In Training
DESCRIPTION:
URL:https://www.cardunaldogtraining.com/event/obedience-drop-in-training-3/2026-10-07/
LOCATION:CarDunAl Dog Training Club\, 10783 Wolf Dr.\, Huntley\, IL\, 60142\, United States
CATEGORIES:Drop In Training
END:VEVENT
BEGIN:VEVENT
DTSTART;TZID=America/Chicago:20261007T120000
DTEND;TZID=America/Chicago:20261007T133000
DTSTAMP:20260420T112008
CREATED:20251231T010632Z
LAST-MODIFIED:20260101T023831Z
UID:29193-1791374400-1791379800@www.cardunaldogtraining.com
SUMMARY:Rally Drop-In
DESCRIPTION:
URL:https://www.cardunaldogtraining.com/event/rally-drop-in-class-2/2026-10-07/
LOCATION:CarDunAl Dog Training Club\, 10783 Wolf Dr.\, Huntley\, IL\, 60142\, United States
CATEGORIES:Drop In Training
END:VEVENT
BEGIN:VEVENT
DTSTART;TZID=America/Chicago:20261007T180000
DTEND;TZID=America/Chicago:20261007T184500
DTSTAMP:20260420T112008
CREATED:20251231T012028Z
LAST-MODIFIED:20251231T012028Z
UID:29263-1791396000-1791398700@www.cardunaldogtraining.com
SUMMARY:Novice Conformation Handling Class Drop-In Training
DESCRIPTION:
URL:https://www.cardunaldogtraining.com/event/novice-conformation-handling-class-drop-in-training/2026-10-07/
LOCATION:CarDunAl Dog Training Club\, 10783 Wolf Dr.\, Huntley\, IL\, 60142\, United States
END:VEVENT
BEGIN:VEVENT
DTSTART;TZID=America/Chicago:20261007T190000
DTEND;TZID=America/Chicago:20261007T200000
DTSTAMP:20260420T112008
CREATED:20251231T012254Z
LAST-MODIFIED:20251231T012254Z
UID:29313-1791399600-1791403200@www.cardunaldogtraining.com
SUMMARY:Conformation Drop-In Training
DESCRIPTION:
URL:https://www.cardunaldogtraining.com/event/conformation-drop-in-training-2/2026-10-07/
LOCATION:CarDunAl Dog Training Club\, 10783 Wolf Dr.\, Huntley\, IL\, 60142\, United States
CATEGORIES:Drop In Training
END:VEVENT
BEGIN:VEVENT
DTSTART;TZID=America/Chicago:20261008T190000
DTEND;TZID=America/Chicago:20261008T210000
DTSTAMP:20260420T112008
CREATED:20251220T022518Z
LAST-MODIFIED:20251220T022518Z
UID:28635-1791486000-1791493200@www.cardunaldogtraining.com
SUMMARY:General Membership Meeting
DESCRIPTION:
URL:https://www.cardunaldogtraining.com/event/general-membership-meeting-17/
LOCATION:CarDunAl Dog Training Club\, 10783 Wolf Dr.\, Huntley\, IL\, 60142\, United States
CATEGORIES:Meeting
END:VEVENT
BEGIN:VEVENT
DTSTART;VALUE=DATE:20261010
DTEND;VALUE=DATE:20261011
DTSTAMP:20260420T112008
CREATED:20251220T022923Z
LAST-MODIFIED:20251220T022923Z
UID:28637-1791590400-1791676799@www.cardunaldogtraining.com
SUMMARY:Husky Specialty
DESCRIPTION:
URL:https://www.cardunaldogtraining.com/event/husky-specialty-3/2026-10-10/
LOCATION:CarDunAl Dog Training Club\, 10783 Wolf Dr.\, Huntley\, IL\, 60142\, United States
CATEGORIES:Events
END:VEVENT
BEGIN:VEVENT
DTSTART;VALUE=DATE:20261011
DTEND;VALUE=DATE:20261012
DTSTAMP:20260420T112008
CREATED:20251220T022923Z
LAST-MODIFIED:20251220T022923Z
UID:28638-1791676800-1791763199@www.cardunaldogtraining.com
SUMMARY:Husky Specialty
DESCRIPTION:
URL:https://www.cardunaldogtraining.com/event/husky-specialty-3/2026-10-11/
LOCATION:CarDunAl Dog Training Club\, 10783 Wolf Dr.\, Huntley\, IL\, 60142\, United States
CATEGORIES:Events
END:VEVENT
BEGIN:VEVENT
DTSTART;TZID=America/Chicago:20261014T100000
DTEND;TZID=America/Chicago:20261014T120000
DTSTAMP:20260420T112008
CREATED:20251231T012521Z
LAST-MODIFIED:20251231T012521Z
UID:29364-1791972000-1791979200@www.cardunaldogtraining.com
SUMMARY:Obedience Drop-In Training
DESCRIPTION:
URL:https://www.cardunaldogtraining.com/event/obedience-drop-in-training-3/2026-10-14/
LOCATION:CarDunAl Dog Training Club\, 10783 Wolf Dr.\, Huntley\, IL\, 60142\, United States
CATEGORIES:Drop In Training
END:VEVENT
BEGIN:VEVENT
DTSTART;TZID=America/Chicago:20261014T120000
DTEND;TZID=America/Chicago:20261014T133000
DTSTAMP:20260420T112008
CREATED:20251231T010632Z
LAST-MODIFIED:20260101T023831Z
UID:29194-1791979200-1791984600@www.cardunaldogtraining.com
SUMMARY:Rally Drop-In
DESCRIPTION:
URL:https://www.cardunaldogtraining.com/event/rally-drop-in-class-2/2026-10-14/
LOCATION:CarDunAl Dog Training Club\, 10783 Wolf Dr.\, Huntley\, IL\, 60142\, United States
CATEGORIES:Drop In Training
END:VEVENT
END:VCALENDAR