BEGIN:VCALENDAR
VERSION:2.0
PRODID:-//Car-Dun-Al Dog Obedience Training Club - ECPv6.15.17.1//NONSGML v1.0//EN
CALSCALE:GREGORIAN
METHOD:PUBLISH
X-ORIGINAL-URL:https://www.cardunaldogtraining.com
X-WR-CALDESC:Events for Car-Dun-Al Dog Obedience Training Club
REFRESH-INTERVAL;VALUE=DURATION:PT1H
X-Robots-Tag:noindex
X-PUBLISHED-TTL:PT1H
BEGIN:VTIMEZONE
TZID:America/Chicago
BEGIN:DAYLIGHT
TZOFFSETFROM:-0600
TZOFFSETTO:-0500
TZNAME:CDT
DTSTART:20230312T080000
END:DAYLIGHT
BEGIN:STANDARD
TZOFFSETFROM:-0500
TZOFFSETTO:-0600
TZNAME:CST
DTSTART:20231105T070000
END:STANDARD
BEGIN:DAYLIGHT
TZOFFSETFROM:-0600
TZOFFSETTO:-0500
TZNAME:CDT
DTSTART:20240310T080000
END:DAYLIGHT
BEGIN:STANDARD
TZOFFSETFROM:-0500
TZOFFSETTO:-0600
TZNAME:CST
DTSTART:20241103T070000
END:STANDARD
BEGIN:DAYLIGHT
TZOFFSETFROM:-0600
TZOFFSETTO:-0500
TZNAME:CDT
DTSTART:20250309T080000
END:DAYLIGHT
BEGIN:STANDARD
TZOFFSETFROM:-0500
TZOFFSETTO:-0600
TZNAME:CST
DTSTART:20251102T070000
END:STANDARD
END:VTIMEZONE
BEGIN:VEVENT
DTSTART;VALUE=DATE:20240302
DTEND;VALUE=DATE:20240303
DTSTAMP:20260421T074028
CREATED:20231017T005818Z
LAST-MODIFIED:20241027T215216Z
UID:19243-1709337600-1709423999@www.cardunaldogtraining.com
SUMMARY:Cardunal Scent Work Trial
DESCRIPTION:
URL:https://www.cardunaldogtraining.com/event/cda-scent-work-trial-5/
LOCATION:CarDunAl Dog Training Club\, 10783 Wolf Dr.\, Huntley\, IL\, 60142\, United States
CATEGORIES:Trials
END:VEVENT
BEGIN:VEVENT
DTSTART;VALUE=DATE:20240303
DTEND;VALUE=DATE:20240304
DTSTAMP:20260421T074028
CREATED:20231017T010004Z
LAST-MODIFIED:20241027T215147Z
UID:19245-1709424000-1709510399@www.cardunaldogtraining.com
SUMMARY:Cardunal Scent Work Trial
DESCRIPTION:
URL:https://www.cardunaldogtraining.com/event/cda-scent-work-trial-6/
LOCATION:CarDunAl Dog Training Club\, 10783 Wolf Dr.\, Huntley\, IL\, 60142\, United States
END:VEVENT
BEGIN:VEVENT
DTSTART;VALUE=DATE:20240308
DTEND;VALUE=DATE:20240309
DTSTAMP:20260421T074028
CREATED:20231017T011748Z
LAST-MODIFIED:20231017T011804Z
UID:19247-1709856000-1709942399@www.cardunaldogtraining.com
SUMMARY:Belgian Tervuren Specialty
DESCRIPTION:
URL:https://www.cardunaldogtraining.com/event/8-th-belgian-tervuren-specialty/
LOCATION:CarDunAl Dog Training Club\, 10783 Wolf Dr.\, Huntley\, IL\, 60142\, United States
CATEGORIES:Events
END:VEVENT
BEGIN:VEVENT
DTSTART;VALUE=DATE:20240309
DTEND;VALUE=DATE:20240310
DTSTAMP:20260421T074028
CREATED:20231017T011923Z
LAST-MODIFIED:20231023T181734Z
UID:19250-1709942400-1710028799@www.cardunaldogtraining.com
SUMMARY:Belgian Tervuren Specialty
DESCRIPTION:
URL:https://www.cardunaldogtraining.com/event/belgian-tervuren-specialty/
LOCATION:CarDunAl Dog Training Club\, 10783 Wolf Dr.\, Huntley\, IL\, 60142\, United States
CATEGORIES:Trials
END:VEVENT
BEGIN:VEVENT
DTSTART;VALUE=DATE:20240310
DTEND;VALUE=DATE:20240311
DTSTAMP:20260421T074028
CREATED:20231017T012005Z
LAST-MODIFIED:20231023T181456Z
UID:19252-1710028800-1710115199@www.cardunaldogtraining.com
SUMMARY:Belgian Tervuren Specialty
DESCRIPTION:
URL:https://www.cardunaldogtraining.com/event/belgian-tervuren-specialty-2/
LOCATION:CarDunAl Dog Training Club\, 10783 Wolf Dr.\, Huntley\, IL\, 60142\, United States
CATEGORIES:Trials
END:VEVENT
BEGIN:VEVENT
DTSTART;VALUE=DATE:20240315
DTEND;VALUE=DATE:20240316
DTSTAMP:20260421T074028
CREATED:20231017T012807Z
LAST-MODIFIED:20231018T002805Z
UID:19254-1710460800-1710547199@www.cardunaldogtraining.com
SUMMARY:Bernese Mountain Dog Club of Northeastern Illinois Agility Trial
DESCRIPTION:
URL:https://www.cardunaldogtraining.com/event/bernese-mountain-dog-club-of-northeastern-illinois/
LOCATION:CarDunAl Dog Training Club\, 10783 Wolf Dr.\, Huntley\, IL\, 60142\, United States
CATEGORIES:Trials
END:VEVENT
BEGIN:VEVENT
DTSTART;VALUE=DATE:20240316
DTEND;VALUE=DATE:20240317
DTSTAMP:20260421T074028
CREATED:20231017T013406Z
LAST-MODIFIED:20231017T013406Z
UID:19258-1710547200-1710633599@www.cardunaldogtraining.com
SUMMARY:Cardunal Agility Trial
DESCRIPTION:
URL:https://www.cardunaldogtraining.com/event/cardunal-agility-trial-3/
LOCATION:CarDunAl Dog Training Club\, 10783 Wolf Dr.\, Huntley\, IL\, 60142\, United States
CATEGORIES:Trials
END:VEVENT
BEGIN:VEVENT
DTSTART;VALUE=DATE:20240317
DTEND;VALUE=DATE:20240318
DTSTAMP:20260421T074028
CREATED:20231017T013518Z
LAST-MODIFIED:20231017T013518Z
UID:19260-1710633600-1710719999@www.cardunaldogtraining.com
SUMMARY:Cardunal Agility Trial
DESCRIPTION:
URL:https://www.cardunaldogtraining.com/event/cardunal-agility-trial-4/
LOCATION:CarDunAl Dog Training Club\, 10783 Wolf Dr.\, Huntley\, IL\, 60142\, United States
CATEGORIES:Trials
END:VEVENT
BEGIN:VEVENT
DTSTART;TZID=America/Chicago:20240325T090000
DTEND;TZID=America/Chicago:20240325T103000
DTSTAMP:20260421T074028
CREATED:20240307T024233Z
LAST-MODIFIED:20240307T024233Z
UID:21706-1711357200-1711362600@www.cardunaldogtraining.com
SUMMARY:Master Agility Level 6
DESCRIPTION:
URL:https://www.cardunaldogtraining.com/event/master-agility-level-6/2024-03-25/
LOCATION:CarDunAl Dog Training Club\, 10783 Wolf Dr.\, Huntley\, IL\, 60142\, United States
CATEGORIES:Agility
END:VEVENT
BEGIN:VEVENT
DTSTART;TZID=America/Chicago:20240325T170000
DTEND;TZID=America/Chicago:20240325T180000
DTSTAMP:20260421T074028
CREATED:20240307T023332Z
LAST-MODIFIED:20240307T023332Z
UID:21648-1711386000-1711389600@www.cardunaldogtraining.com
SUMMARY:Advanced Agility Level 4
DESCRIPTION:
URL:https://www.cardunaldogtraining.com/event/advanced-agility-level-4-5/2024-03-25/
LOCATION:CarDunAl Dog Training Club\, 10783 Wolf Dr.\, Huntley\, IL\, 60142\, United States
CATEGORIES:Agility
END:VEVENT
BEGIN:VEVENT
DTSTART;TZID=America/Chicago:20240325T180000
DTEND;TZID=America/Chicago:20240325T190000
DTSTAMP:20260421T074028
CREATED:20240307T022524Z
LAST-MODIFIED:20240307T022524Z
UID:21600-1711389600-1711393200@www.cardunaldogtraining.com
SUMMARY:Agility Foundation Class Level 0
DESCRIPTION:
URL:https://www.cardunaldogtraining.com/event/agility-foundation-class-level-0-2/2024-03-25/
LOCATION:CarDunAl Dog Training Club\, 10783 Wolf Dr.\, Huntley\, IL\, 60142\, United States
CATEGORIES:Agility
END:VEVENT
BEGIN:VEVENT
DTSTART;TZID=America/Chicago:20240325T180000
DTEND;TZID=America/Chicago:20240325T190000
DTSTAMP:20260421T074028
CREATED:20240307T023523Z
LAST-MODIFIED:20240307T023606Z
UID:21660-1711389600-1711393200@www.cardunaldogtraining.com
SUMMARY:Advanced Agility Level 4
DESCRIPTION:
URL:https://www.cardunaldogtraining.com/event/advanced-agility-level-4-6/2024-03-25/
LOCATION:CarDunAl Dog Training Club\, 10783 Wolf Dr.\, Huntley\, IL\, 60142\, United States
CATEGORIES:Agility
END:VEVENT
BEGIN:VEVENT
DTSTART;TZID=America/Chicago:20240325T190000
DTEND;TZID=America/Chicago:20240325T200000
DTSTAMP:20260421T074028
CREATED:20240307T022845Z
LAST-MODIFIED:20240307T022845Z
UID:21624-1711393200-1711396800@www.cardunaldogtraining.com
SUMMARY:Intermediate Agility Level 2
DESCRIPTION:
URL:https://www.cardunaldogtraining.com/event/intermediate-agility-level-2-3/2024-03-25/
LOCATION:CarDunAl Dog Training Club\, 10783 Wolf Dr.\, Huntley\, IL\, 60142\, United States
CATEGORIES:Agility
END:VEVENT
BEGIN:VEVENT
DTSTART;TZID=America/Chicago:20240325T190000
DTEND;TZID=America/Chicago:20240325T200000
DTSTAMP:20260421T074028
CREATED:20240307T023827Z
LAST-MODIFIED:20240307T023827Z
UID:21682-1711393200-1711396800@www.cardunaldogtraining.com
SUMMARY:Competition Agility Level 5
DESCRIPTION:
URL:https://www.cardunaldogtraining.com/event/competition-agility-level-5-6/2024-03-25/
LOCATION:CarDunAl Dog Training Club\, 10783 Wolf Dr.\, Huntley\, IL\, 60142\, United States
CATEGORIES:Agility
END:VEVENT
BEGIN:VEVENT
DTSTART;TZID=America/Chicago:20240325T200000
DTEND;TZID=America/Chicago:20240325T210000
DTSTAMP:20260421T074028
CREATED:20240307T022706Z
LAST-MODIFIED:20240307T022706Z
UID:21612-1711396800-1711400400@www.cardunaldogtraining.com
SUMMARY:Beginner Agility Level 1
DESCRIPTION:
URL:https://www.cardunaldogtraining.com/event/beginner-agility-level-1-3/2024-03-25/
LOCATION:CarDunAl Dog Training Club\, 10783 Wolf Dr.\, Huntley\, IL\, 60142\, United States
CATEGORIES:Agility
END:VEVENT
BEGIN:VEVENT
DTSTART;TZID=America/Chicago:20240325T200000
DTEND;TZID=America/Chicago:20240325T210000
DTSTAMP:20260421T074028
CREATED:20240307T024026Z
LAST-MODIFIED:20240307T024026Z
UID:21694-1711396800-1711400400@www.cardunaldogtraining.com
SUMMARY:Competition Agility Level 5
DESCRIPTION:
URL:https://www.cardunaldogtraining.com/event/competition-agility-level-5-7/2024-03-25/
LOCATION:CarDunAl Dog Training Club\, 10783 Wolf Dr.\, Huntley\, IL\, 60142\, United States
CATEGORIES:Agility
END:VEVENT
BEGIN:VEVENT
DTSTART;TZID=America/Chicago:20240326T180000
DTEND;TZID=America/Chicago:20240326T190000
DTSTAMP:20260421T074028
CREATED:20240307T004158Z
LAST-MODIFIED:20240307T004158Z
UID:21387-1711476000-1711479600@www.cardunaldogtraining.com
SUMMARY:Puppy Class Obedience
DESCRIPTION:
URL:https://www.cardunaldogtraining.com/event/puppy-class-obedience-5/2024-03-26/
LOCATION:CarDunAl Dog Training Club\, 10783 Wolf Dr.\, Huntley\, IL\, 60142\, United States
CATEGORIES:AKC Star Puppy / Pre-Beginners Class
END:VEVENT
BEGIN:VEVENT
DTSTART;TZID=America/Chicago:20240326T200000
DTEND;TZID=America/Chicago:20240326T210000
DTSTAMP:20260421T074028
CREATED:20240307T023156Z
LAST-MODIFIED:20240307T023156Z
UID:21636-1711483200-1711486800@www.cardunaldogtraining.com
SUMMARY:Intermediate Agility Level 3
DESCRIPTION:
URL:https://www.cardunaldogtraining.com/event/intermediate-agility-level-3-3/2024-03-26/
LOCATION:CarDunAl Dog Training Club\, 10783 Wolf Dr.\, Huntley\, IL\, 60142\, United States
CATEGORIES:Agility
END:VEVENT
BEGIN:VEVENT
DTSTART;TZID=America/Chicago:20240327T090000
DTEND;TZID=America/Chicago:20240327T100000
DTSTAMP:20260421T074028
CREATED:20240307T005011Z
LAST-MODIFIED:20240307T005011Z
UID:21446-1711530000-1711533600@www.cardunaldogtraining.com
SUMMARY:Open/Utility Obedience - No Instructor
DESCRIPTION:
URL:https://www.cardunaldogtraining.com/event/open-utility-obedience-no-instructor-9/2024-03-27/
LOCATION:CarDunAl Dog Training Club\, 10783 Wolf Dr.\, Huntley\, IL\, 60142\, United States
CATEGORIES:Advanced
END:VEVENT
BEGIN:VEVENT
DTSTART;TZID=America/Chicago:20240327T100000
DTEND;TZID=America/Chicago:20240327T110000
DTSTAMP:20260421T074028
CREATED:20240307T004511Z
LAST-MODIFIED:20240307T004612Z
UID:21411-1711533600-1711537200@www.cardunaldogtraining.com
SUMMARY:Novice Obedience
DESCRIPTION:
URL:https://www.cardunaldogtraining.com/event/novice-wednesday-1000-am/2024-03-27/
LOCATION:CarDunAl Dog Training Club\, 10783 Wolf Dr.\, Huntley\, IL\, 60142\, United States
CATEGORIES:Advanced
END:VEVENT
BEGIN:VEVENT
DTSTART;TZID=America/Chicago:20240327T100000
DTEND;TZID=America/Chicago:20240327T110000
DTSTAMP:20260421T074028
CREATED:20240307T010949Z
LAST-MODIFIED:20240307T010949Z
UID:21533-1711533600-1711537200@www.cardunaldogtraining.com
SUMMARY:Open Obedience
DESCRIPTION:
URL:https://www.cardunaldogtraining.com/event/open-obedience-13/2024-03-27/
LOCATION:CarDunAl Dog Training Club\, 10783 Wolf Dr.\, Huntley\, IL\, 60142\, United States
CATEGORIES:Advanced
END:VEVENT
BEGIN:VEVENT
DTSTART;TZID=America/Chicago:20240327T113000
DTEND;TZID=America/Chicago:20240327T123000
DTSTAMP:20260421T074028
CREATED:20240307T005557Z
LAST-MODIFIED:20240307T005557Z
UID:21490-1711539000-1711542600@www.cardunaldogtraining.com
SUMMARY:Beginner Obedience
DESCRIPTION:
URL:https://www.cardunaldogtraining.com/event/beginner-obedience-21/2024-03-27/
LOCATION:CarDunAl Dog Training Club\, 10783 Wolf Dr.\, Huntley\, IL\, 60142\, United States
CATEGORIES:Advanced
END:VEVENT
BEGIN:VEVENT
DTSTART;TZID=America/Chicago:20240328T103000
DTEND;TZID=America/Chicago:20240328T113000
DTSTAMP:20260421T074028
CREATED:20240307T004312Z
LAST-MODIFIED:20240307T004312Z
UID:21399-1711621800-1711625400@www.cardunaldogtraining.com
SUMMARY:Puppy Class Obedience
DESCRIPTION:
URL:https://www.cardunaldogtraining.com/event/puppy-class-obedience-6/2024-03-28/
LOCATION:CarDunAl Dog Training Club\, 10783 Wolf Dr.\, Huntley\, IL\, 60142\, United States
CATEGORIES:AKC Star Puppy / Pre-Beginners Class
END:VEVENT
BEGIN:VEVENT
DTSTART;TZID=America/Chicago:20240328T120000
DTEND;TZID=America/Chicago:20240328T130000
DTSTAMP:20260421T074028
CREATED:20240307T005833Z
LAST-MODIFIED:20240307T010514Z
UID:21502-1711627200-1711630800@www.cardunaldogtraining.com
SUMMARY:Beginner Obedience
DESCRIPTION:
URL:https://www.cardunaldogtraining.com/event/beginner-obedience-22/2024-03-28/
LOCATION:CarDunAl Dog Training Club\, 10783 Wolf Dr.\, Huntley\, IL\, 60142\, United States
CATEGORIES:Advanced
END:VEVENT
BEGIN:VEVENT
DTSTART;TZID=America/Chicago:20240328T180000
DTEND;TZID=America/Chicago:20240328T190000
DTSTAMP:20260421T074028
CREATED:20240307T005128Z
LAST-MODIFIED:20240307T005202Z
UID:21458-1711648800-1711652400@www.cardunaldogtraining.com
SUMMARY:Open/Utility Obedience - No Instructor
DESCRIPTION:
URL:https://www.cardunaldogtraining.com/event/open-utility-no-instructor-5/2024-03-28/
LOCATION:CarDunAl Dog Training Club\, 10783 Wolf Dr.\, Huntley\, IL\, 60142\, United States
CATEGORIES:Advanced
END:VEVENT
BEGIN:VEVENT
DTSTART;TZID=America/Chicago:20240328T180000
DTEND;TZID=America/Chicago:20240328T190000
DTSTAMP:20260421T074028
CREATED:20240307T021617Z
LAST-MODIFIED:20240307T021617Z
UID:21567-1711648800-1711652400@www.cardunaldogtraining.com
SUMMARY:Beginner Novice Obedience
DESCRIPTION:
URL:https://www.cardunaldogtraining.com/event/beginner-novice-obedience-7/2024-03-28/
LOCATION:CarDunAl Dog Training Club\, 10783 Wolf Dr.\, Huntley\, IL\, 60142\, United States
CATEGORIES:Advanced
END:VEVENT
BEGIN:VEVENT
DTSTART;TZID=America/Chicago:20240328T183000
DTEND;TZID=America/Chicago:20240328T193000
DTSTAMP:20260421T074028
CREATED:20240307T010622Z
LAST-MODIFIED:20240307T010622Z
UID:21522-1711650600-1711654200@www.cardunaldogtraining.com
SUMMARY:Beginner Obedience
DESCRIPTION:
URL:https://www.cardunaldogtraining.com/event/beginner-obedience-23/2024-03-28/
LOCATION:CarDunAl Dog Training Club\, 10783 Wolf Dr.\, Huntley\, IL\, 60142\, United States
CATEGORIES:Advanced
END:VEVENT
BEGIN:VEVENT
DTSTART;TZID=America/Chicago:20240328T190000
DTEND;TZID=America/Chicago:20240328T200000
DTSTAMP:20260421T074028
CREATED:20240307T004758Z
LAST-MODIFIED:20240307T004758Z
UID:21435-1711652400-1711656000@www.cardunaldogtraining.com
SUMMARY:Novice Obedience
DESCRIPTION:
URL:https://www.cardunaldogtraining.com/event/novice-obedience-17/2024-03-28/
LOCATION:CarDunAl Dog Training Club\, 10783 Wolf Dr.\, Huntley\, IL\, 60142\, United States
CATEGORIES:Advanced
END:VEVENT
BEGIN:VEVENT
DTSTART;TZID=America/Chicago:20240328T190000
DTEND;TZID=America/Chicago:20240328T200000
DTSTAMP:20260421T074028
CREATED:20240307T021812Z
LAST-MODIFIED:20240307T021812Z
UID:21578-1711652400-1711656000@www.cardunaldogtraining.com
SUMMARY:Beginner Novice Obedience
DESCRIPTION:
URL:https://www.cardunaldogtraining.com/event/beginner-novice-obedience-8/2024-03-28/
LOCATION:CarDunAl Dog Training Club\, 10783 Wolf Dr.\, Huntley\, IL\, 60142\, United States
CATEGORIES:Advanced
END:VEVENT
BEGIN:VEVENT
DTSTART;TZID=America/Chicago:20240328T190000
DTEND;TZID=America/Chicago:20240328T200000
DTSTAMP:20260421T074028
CREATED:20240307T024635Z
LAST-MODIFIED:20240307T024635Z
UID:21718-1711652400-1711656000@www.cardunaldogtraining.com
SUMMARY:Mid-Utility Obedience
DESCRIPTION:
URL:https://www.cardunaldogtraining.com/event/mid-utility-obedience-7/2024-03-28/
LOCATION:CarDunAl Dog Training Club\, 10783 Wolf Dr.\, Huntley\, IL\, 60142\, United States
CATEGORIES:Advanced
END:VEVENT
END:VCALENDAR